Workbook

Sheet GPA Calculator
A1: =""
B2: SEMESTER GPA CALCULATOR
B3: Linked Grades and What If Grades
B5: REAL COURSE POINTS | D5: ÷ | E5: GPA CREDITS | F5: = | G5: REAL GPA | I5: WHAT IF COURSE POINTS | K5: ÷ | L5: GPA CREDITS | M5: = | N5: WHAT IF GPA
B6: =IF(G23="","",G23) | E6: =IF(E23=0,"",E23) | G6: =IF(G23="CHECK GRADE","CHECK GRADE",IF(G23="CHECK CREDITS","CHECK CREDITS",IF(OR(E23="",E23=0,G23=""),"ENTER GRADES",G23/E23))) -> ENTER GRADES | I6: =IF(N23="","",N23) | L6: =IF(L23=0,"",L23) | N6: =IF(N23="CHECK GRADE","CHECK GRADE",IF(N23="CHECK CREDITS","CHECK CREDITS",IF(OR(L23="",L23=0,N23=""),"ENTER GRADES",N23/L23))) -> ENTER GRADES
B8: FROM CLASS SHEETS | E8: COUNTED | G8: READ ONLY | I8: PLANNING ONLY | L8: MIRRORED | N8: PLANNING RESULT
B10: A 4.00 | C10: B 3.00 | D10: C 2.00 | E10: D 1.00 | F10: F 0.00 | G10: CLEMSON UNDERGRADUATE SCALE
B11: F and I count as 0. P/NP, W, transfer, and blank grades do not count.
B13: REAL GRADES FROM CLASS SHEETS | I13: WHAT IF GRADES PLANNING ONLY
B14: Course | C14: Real % | D14: Real Grade | E14: Credits | F14: Grade Value | G14: Course Points | I14: Course | J14: Real Grade | K14: What If Grade | L14: Credits | M14: Grade Value | N14: Course Points
B15: =IF('Class 1'!$B$2="","Class 1",IF('Class 1'!$B$2="COURSE CODE","Class 1",'Class 1'!$B$2)) -> Class 1 | C15: =IF('Class 1'!$AZ$1="","",'Class 1'!$AZ$1) | D15: =IF('Class 1'!$AZ$2="","",'Class 1'!$AZ$2) | F15: =IF((D15)="","",IF((D15)="A",4,IF((D15)="B",3,IF((D15)="C",2,IF((D15)="D",1,IF((D15)="F",0,IF((D15)="I",0,IF(OR((D15)="P",(D15)="NP",(D15)="P/NP",(D15)="W",(D15)="TR",(D15)="T",(D15)="TRANSFER"),"EXCLUDED","CHECK GRADE")))))))) | G15: =IF(F15="CHECK GRADE","",IF(F15="EXCLUDED","",IF(ISNUMBER(F15),IF(AND(ISNUMBER(E15),E15>0),E15*F15,"CHECK CREDITS"),""))) | I15: =B15 -> Class 1 | J15: =IF(D15="","",D15) | L15: =IF(E15="","",E15) | M15: =IF((IF(K15<>"",K15,J15))="","",IF((IF(K15<>"",K15,J15))="A",4,IF((IF(K15<>"",K15,J15))="B",3,IF((IF(K15<>"",K15,J15))="C",2,IF((IF(K15<>"",K15,J15))="D",1,IF((IF(K15<>"",K15,J15))="F",0,IF((IF(K15<>"",K15,J15))="I",0,IF(OR((IF(K15<>"",K15,J15))="P",(IF(K15<>"",K15,J15))="NP",(IF(K15<>"",K15,J15))="P/NP",(IF(K15<>"",K15,J15))="W",(IF(K15<>"",K15,J15))="TR",(IF(K15<>"",K15,J15))="T",(IF(K15<>"",K15,J15))="TRANSFER"),"EXCLUDED","CHECK GRADE")))))))) | N15: =IF(M15="CHECK GRADE","",IF(M15="EXCLUDED","",IF(ISNUMBER(M15),IF(AND(ISNUMBER(L15),L15>0),L15*M15,"CHECK CREDITS"),"")))
B16: =IF('Class 2'!$B$2="","Class 2",IF('Class 2'!$B$2="COURSE CODE","Class 2",'Class 2'!$B$2)) -> Class 2 | C16: =IF('Class 2'!$AZ$1="","",'Class 2'!$AZ$1) | D16: =IF('Class 2'!$AZ$2="","",'Class 2'!$AZ$2) | F16: =IF((D16)="","",IF((D16)="A",4,IF((D16)="B",3,IF((D16)="C",2,IF((D16)="D",1,IF((D16)="F",0,IF((D16)="I",0,IF(OR((D16)="P",(D16)="NP",(D16)="P/NP",(D16)="W",(D16)="TR",(D16)="T",(D16)="TRANSFER"),"EXCLUDED","CHECK GRADE")))))))) | G16: =IF(F16="CHECK GRADE","",IF(F16="EXCLUDED","",IF(ISNUMBER(F16),IF(AND(ISNUMBER(E16),E16>0),E16*F16,"CHECK CREDITS"),""))) | I16: =B16 -> Class 2 | J16: =IF(D16="","",D16) | L16: =IF(E16="","",E16) | M16: =IF((IF(K16<>"",K16,J16))="","",IF((IF(K16<>"",K16,J16))="A",4,IF((IF(K16<>"",K16,J16))="B",3,IF((IF(K16<>"",K16,J16))="C",2,IF((IF(K16<>"",K16,J16))="D",1,IF((IF(K16<>"",K16,J16))="F",0,IF((IF(K16<>"",K16,J16))="I",0,IF(OR((IF(K16<>"",K16,J16))="P",(IF(K16<>"",K16,J16))="NP",(IF(K16<>"",K16,J16))="P/NP",(IF(K16<>"",K16,J16))="W",(IF(K16<>"",K16,J16))="TR",(IF(K16<>"",K16,J16))="T",(IF(K16<>"",K16,J16))="TRANSFER"),"EXCLUDED","CHECK GRADE")))))))) | N16: =IF(M16="CHECK GRADE","",IF(M16="EXCLUDED","",IF(ISNUMBER(M16),IF(AND(ISNUMBER(L16),L16>0),L16*M16,"CHECK CREDITS"),"")))
B17: =IF('Class 3'!$B$2="","Class 3",IF('Class 3'!$B$2="COURSE CODE","Class 3",'Class 3'!$B$2)) -> Class 3 | C17: =IF('Class 3'!$AZ$1="","",'Class 3'!$AZ$1) | D17: =IF('Class 3'!$AZ$2="","",'Class 3'!$AZ$2) | F17: =IF((D17)="","",IF((D17)="A",4,IF((D17)="B",3,IF((D17)="C",2,IF((D17)="D",1,IF((D17)="F",0,IF((D17)="I",0,IF(OR((D17)="P",(D17)="NP",(D17)="P/NP",(D17)="W",(D17)="TR",(D17)="T",(D17)="TRANSFER"),"EXCLUDED","CHECK GRADE")))))))) | G17: =IF(F17="CHECK GRADE","",IF(F17="EXCLUDED","",IF(ISNUMBER(F17),IF(AND(ISNUMBER(E17),E17>0),E17*F17,"CHECK CREDITS"),""))) | I17: =B17 -> Class 3 | J17: =IF(D17="","",D17) | L17: =IF(E17="","",E17) | M17: =IF((IF(K17<>"",K17,J17))="","",IF((IF(K17<>"",K17,J17))="A",4,IF((IF(K17<>"",K17,J17))="B",3,IF((IF(K17<>"",K17,J17))="C",2,IF((IF(K17<>"",K17,J17))="D",1,IF((IF(K17<>"",K17,J17))="F",0,IF((IF(K17<>"",K17,J17))="I",0,IF(OR((IF(K17<>"",K17,J17))="P",(IF(K17<>"",K17,J17))="NP",(IF(K17<>"",K17,J17))="P/NP",(IF(K17<>"",K17,J17))="W",(IF(K17<>"",K17,J17))="TR",(IF(K17<>"",K17,J17))="T",(IF(K17<>"",K17,J17))="TRANSFER"),"EXCLUDED","CHECK GRADE")))))))) | N17: =IF(M17="CHECK GRADE","",IF(M17="EXCLUDED","",IF(ISNUMBER(M17),IF(AND(ISNUMBER(L17),L17>0),L17*M17,"CHECK CREDITS"),"")))
B18: =IF('Class 4'!$B$2="","Class 4",IF('Class 4'!$B$2="COURSE CODE","Class 4",'Class 4'!$B$2)) -> Class 4 | C18: =IF('Class 4'!$AZ$1="","",'Class 4'!$AZ$1) | D18: =IF('Class 4'!$AZ$2="","",'Class 4'!$AZ$2) | F18: =IF((D18)="","",IF((D18)="A",4,IF((D18)="B",3,IF((D18)="C",2,IF((D18)="D",1,IF((D18)="F",0,IF((D18)="I",0,IF(OR((D18)="P",(D18)="NP",(D18)="P/NP",(D18)="W",(D18)="TR",(D18)="T",(D18)="TRANSFER"),"EXCLUDED","CHECK GRADE")))))))) | G18: =IF(F18="CHECK GRADE","",IF(F18="EXCLUDED","",IF(ISNUMBER(F18),IF(AND(ISNUMBER(E18),E18>0),E18*F18,"CHECK CREDITS"),""))) | I18: =B18 -> Class 4 | J18: =IF(D18="","",D18) | L18: =IF(E18="","",E18) | M18: =IF((IF(K18<>"",K18,J18))="","",IF((IF(K18<>"",K18,J18))="A",4,IF((IF(K18<>"",K18,J18))="B",3,IF((IF(K18<>"",K18,J18))="C",2,IF((IF(K18<>"",K18,J18))="D",1,IF((IF(K18<>"",K18,J18))="F",0,IF((IF(K18<>"",K18,J18))="I",0,IF(OR((IF(K18<>"",K18,J18))="P",(IF(K18<>"",K18,J18))="NP",(IF(K18<>"",K18,J18))="P/NP",(IF(K18<>"",K18,J18))="W",(IF(K18<>"",K18,J18))="TR",(IF(K18<>"",K18,J18))="T",(IF(K18<>"",K18,J18))="TRANSFER"),"EXCLUDED","CHECK GRADE")))))))) | N18: =IF(M18="CHECK GRADE","",IF(M18="EXCLUDED","",IF(ISNUMBER(M18),IF(AND(ISNUMBER(L18),L18>0),L18*M18,"CHECK CREDITS"),"")))
B19: =IF('Class 5'!$B$2="","Class 5",IF('Class 5'!$B$2="COURSE CODE","Class 5",'Class 5'!$B$2)) -> Class 5 | C19: =IF('Class 5'!$AZ$1="","",'Class 5'!$AZ$1) | D19: =IF('Class 5'!$AZ$2="","",'Class 5'!$AZ$2) | F19: =IF((D19)="","",IF((D19)="A",4,IF((D19)="B",3,IF((D19)="C",2,IF((D19)="D",1,IF((D19)="F",0,IF((D19)="I",0,IF(OR((D19)="P",(D19)="NP",(D19)="P/NP",(D19)="W",(D19)="TR",(D19)="T",(D19)="TRANSFER"),"EXCLUDED","CHECK GRADE")))))))) | G19: =IF(F19="CHECK GRADE","",IF(F19="EXCLUDED","",IF(ISNUMBER(F19),IF(AND(ISNUMBER(E19),E19>0),E19*F19,"CHECK CREDITS"),""))) | I19: =B19 -> Class 5 | J19: =IF(D19="","",D19) | L19: =IF(E19="","",E19) | M19: =IF((IF(K19<>"",K19,J19))="","",IF((IF(K19<>"",K19,J19))="A",4,IF((IF(K19<>"",K19,J19))="B",3,IF((IF(K19<>"",K19,J19))="C",2,IF((IF(K19<>"",K19,J19))="D",1,IF((IF(K19<>"",K19,J19))="F",0,IF((IF(K19<>"",K19,J19))="I",0,IF(OR((IF(K19<>"",K19,J19))="P",(IF(K19<>"",K19,J19))="NP",(IF(K19<>"",K19,J19))="P/NP",(IF(K19<>"",K19,J19))="W",(IF(K19<>"",K19,J19))="TR",(IF(K19<>"",K19,J19))="T",(IF(K19<>"",K19,J19))="TRANSFER"),"EXCLUDED","CHECK GRADE")))))))) | N19: =IF(M19="CHECK GRADE","",IF(M19="EXCLUDED","",IF(ISNUMBER(M19),IF(AND(ISNUMBER(L19),L19>0),L19*M19,"CHECK CREDITS"),"")))
B20: =IF('Class 6'!$B$2="","Class 6",IF('Class 6'!$B$2="COURSE CODE","Class 6",'Class 6'!$B$2)) -> Class 6 | C20: =IF('Class 6'!$AZ$1="","",'Class 6'!$AZ$1) | D20: =IF('Class 6'!$AZ$2="","",'Class 6'!$AZ$2) | F20: =IF((D20)="","",IF((D20)="A",4,IF((D20)="B",3,IF((D20)="C",2,IF((D20)="D",1,IF((D20)="F",0,IF((D20)="I",0,IF(OR((D20)="P",(D20)="NP",(D20)="P/NP",(D20)="W",(D20)="TR",(D20)="T",(D20)="TRANSFER"),"EXCLUDED","CHECK GRADE")))))))) | G20: =IF(F20="CHECK GRADE","",IF(F20="EXCLUDED","",IF(ISNUMBER(F20),IF(AND(ISNUMBER(E20),E20>0),E20*F20,"CHECK CREDITS"),""))) | I20: =B20 -> Class 6 | J20: =IF(D20="","",D20) | L20: =IF(E20="","",E20) | M20: =IF((IF(K20<>"",K20,J20))="","",IF((IF(K20<>"",K20,J20))="A",4,IF((IF(K20<>"",K20,J20))="B",3,IF((IF(K20<>"",K20,J20))="C",2,IF((IF(K20<>"",K20,J20))="D",1,IF((IF(K20<>"",K20,J20))="F",0,IF((IF(K20<>"",K20,J20))="I",0,IF(OR((IF(K20<>"",K20,J20))="P",(IF(K20<>"",K20,J20))="NP",(IF(K20<>"",K20,J20))="P/NP",(IF(K20<>"",K20,J20))="W",(IF(K20<>"",K20,J20))="TR",(IF(K20<>"",K20,J20))="T",(IF(K20<>"",K20,J20))="TRANSFER"),"EXCLUDED","CHECK GRADE")))))))) | N20: =IF(M20="CHECK GRADE","",IF(M20="EXCLUDED","",IF(ISNUMBER(M20),IF(AND(ISNUMBER(L20),L20>0),L20*M20,"CHECK CREDITS"),"")))
B21: =IF('Class 7'!$B$2="","Class 7",IF('Class 7'!$B$2="COURSE CODE","Class 7",'Class 7'!$B$2)) -> Class 7 | C21: =IF('Class 7'!$AZ$1="","",'Class 7'!$AZ$1) | D21: =IF('Class 7'!$AZ$2="","",'Class 7'!$AZ$2) | F21: =IF((D21)="","",IF((D21)="A",4,IF((D21)="B",3,IF((D21)="C",2,IF((D21)="D",1,IF((D21)="F",0,IF((D21)="I",0,IF(OR((D21)="P",(D21)="NP",(D21)="P/NP",(D21)="W",(D21)="TR",(D21)="T",(D21)="TRANSFER"),"EXCLUDED","CHECK GRADE")))))))) | G21: =IF(F21="CHECK GRADE","",IF(F21="EXCLUDED","",IF(ISNUMBER(F21),IF(AND(ISNUMBER(E21),E21>0),E21*F21,"CHECK CREDITS"),""))) | I21: =B21 -> Class 7 | J21: =IF(D21="","",D21) | L21: =IF(E21="","",E21) | M21: =IF((IF(K21<>"",K21,J21))="","",IF((IF(K21<>"",K21,J21))="A",4,IF((IF(K21<>"",K21,J21))="B",3,IF((IF(K21<>"",K21,J21))="C",2,IF((IF(K21<>"",K21,J21))="D",1,IF((IF(K21<>"",K21,J21))="F",0,IF((IF(K21<>"",K21,J21))="I",0,IF(OR((IF(K21<>"",K21,J21))="P",(IF(K21<>"",K21,J21))="NP",(IF(K21<>"",K21,J21))="P/NP",(IF(K21<>"",K21,J21))="W",(IF(K21<>"",K21,J21))="TR",(IF(K21<>"",K21,J21))="T",(IF(K21<>"",K21,J21))="TRANSFER"),"EXCLUDED","CHECK GRADE")))))))) | N21: =IF(M21="CHECK GRADE","",IF(M21="EXCLUDED","",IF(ISNUMBER(M21),IF(AND(ISNUMBER(L21),L21>0),L21*M21,"CHECK CREDITS"),"")))
B22: =IF('Class 8'!$B$2="","Class 8",IF('Class 8'!$B$2="COURSE CODE","Class 8",'Class 8'!$B$2)) -> Class 8 | C22: =IF('Class 8'!$AZ$1="","",'Class 8'!$AZ$1) | D22: =IF('Class 8'!$AZ$2="","",'Class 8'!$AZ$2) | F22: =IF((D22)="","",IF((D22)="A",4,IF((D22)="B",3,IF((D22)="C",2,IF((D22)="D",1,IF((D22)="F",0,IF((D22)="I",0,IF(OR((D22)="P",(D22)="NP",(D22)="P/NP",(D22)="W",(D22)="TR",(D22)="T",(D22)="TRANSFER"),"EXCLUDED","CHECK GRADE")))))))) | G22: =IF(F22="CHECK GRADE","",IF(F22="EXCLUDED","",IF(ISNUMBER(F22),IF(AND(ISNUMBER(E22),E22>0),E22*F22,"CHECK CREDITS"),""))) | I22: =B22 -> Class 8 | J22: =IF(D22="","",D22) | L22: =IF(E22="","",E22) | M22: =IF((IF(K22<>"",K22,J22))="","",IF((IF(K22<>"",K22,J22))="A",4,IF((IF(K22<>"",K22,J22))="B",3,IF((IF(K22<>"",K22,J22))="C",2,IF((IF(K22<>"",K22,J22))="D",1,IF((IF(K22<>"",K22,J22))="F",0,IF((IF(K22<>"",K22,J22))="I",0,IF(OR((IF(K22<>"",K22,J22))="P",(IF(K22<>"",K22,J22))="NP",(IF(K22<>"",K22,J22))="P/NP",(IF(K22<>"",K22,J22))="W",(IF(K22<>"",K22,J22))="TR",(IF(K22<>"",K22,J22))="T",(IF(K22<>"",K22,J22))="TRANSFER"),"EXCLUDED","CHECK GRADE")))))))) | N22: =IF(M22="CHECK GRADE","",IF(M22="EXCLUDED","",IF(ISNUMBER(M22),IF(AND(ISNUMBER(L22),L22>0),L22*M22,"CHECK CREDITS"),"")))
B23: TOTAL | E23: =IF(IF(ISNUMBER(F15),IF(AND(ISNUMBER(E15),E15>0),E15,0),0)+IF(ISNUMBER(F16),IF(AND(ISNUMBER(E16),E16>0),E16,0),0)+IF(ISNUMBER(F17),IF(AND(ISNUMBER(E17),E17>0),E17,0),0)+IF(ISNUMBER(F18),IF(AND(ISNUMBER(E18),E18>0),E18,0),0)+IF(ISNUMBER(F19),IF(AND(ISNUMBER(E19),E19>0),E19,0),0)+IF(ISNUMBER(F20),IF(AND(ISNUMBER(E20),E20>0),E20,0),0)+IF(ISNUMBER(F21),IF(AND(ISNUMBER(E21),E21>0),E21,0),0)+IF(ISNUMBER(F22),IF(AND(ISNUMBER(E22),E22>0),E22,0),0)=0,"",IF(ISNUMBER(F15),IF(AND(ISNUMBER(E15),E15>0),E15,0),0)+IF(ISNUMBER(F16),IF(AND(ISNUMBER(E16),E16>0),E16,0),0)+IF(ISNUMBER(F17),IF(AND(ISNUMBER(E17),E17>0),E17,0),0)+IF(ISNUMBER(F18),IF(AND(ISNUMBER(E18),E18>0),E18,0),0)+IF(ISNUMBER(F19),IF(AND(ISNUMBER(E19),E19>0),E19,0),0)+IF(ISNUMBER(F20),IF(AND(ISNUMBER(E20),E20>0),E20,0),0)+IF(ISNUMBER(F21),IF(AND(ISNUMBER(E21),E21>0),E21,0),0)+IF(ISNUMBER(F22),IF(AND(ISNUMBER(E22),E22>0),E22,0),0)) | G23: =IF(COUNTIF(F15:F22,"CHECK GRADE")>0,"CHECK GRADE",IF(COUNTIF(G15:G22,"CHECK CREDITS")>0,"CHECK CREDITS",IF(COUNT(G15:G22)=0,"",SUM(G15:G22)))) | I23: TOTAL | L23: =IF(IF(ISNUMBER(M15),IF(AND(ISNUMBER(L15),L15>0),L15,0),0)+IF(ISNUMBER(M16),IF(AND(ISNUMBER(L16),L16>0),L16,0),0)+IF(ISNUMBER(M17),IF(AND(ISNUMBER(L17),L17>0),L17,0),0)+IF(ISNUMBER(M18),IF(AND(ISNUMBER(L18),L18>0),L18,0),0)+IF(ISNUMBER(M19),IF(AND(ISNUMBER(L19),L19>0),L19,0),0)+IF(ISNUMBER(M20),IF(AND(ISNUMBER(L20),L20>0),L20,0),0)+IF(ISNUMBER(M21),IF(AND(ISNUMBER(L21),L21>0),L21,0),0)+IF(ISNUMBER(M22),IF(AND(ISNUMBER(L22),L22>0),L22,0),0)=0,"",IF(ISNUMBER(M15),IF(AND(ISNUMBER(L15),L15>0),L15,0),0)+IF(ISNUMBER(M16),IF(AND(ISNUMBER(L16),L16>0),L16,0),0)+IF(ISNUMBER(M17),IF(AND(ISNUMBER(L17),L17>0),L17,0),0)+IF(ISNUMBER(M18),IF(AND(ISNUMBER(L18),L18>0),L18,0),0)+IF(ISNUMBER(M19),IF(AND(ISNUMBER(L19),L19>0),L19,0),0)+IF(ISNUMBER(M20),IF(AND(ISNUMBER(L20),L20>0),L20,0),0)+IF(ISNUMBER(M21),IF(AND(ISNUMBER(L21),L21>0),L21,0),0)+IF(ISNUMBER(M22),IF(AND(ISNUMBER(L22),L22>0),L22,0),0)) | N23: =IF(COUNTIF(M15:M22,"CHECK GRADE")>0,"CHECK GRADE",IF(COUNTIF(N15:N22,"CHECK CREDITS")>0,"CHECK CREDITS",IF(COUNT(N15:N22)=0,"",SUM(N15:N22))))
B24: Credits × grade value = course points. Total course points ÷ GPA credits = GPA.
B25: https://www.clemson.edu/asc/success-resources/gpa-calculator.html

Sheet Class 1
AZ1: =IF(ISNUMBER($AR$7),$AR$7,"")
B2: COURSE CODE | AZ2: =IF(ISTEXT($AV$7),$AV$7,"")
B3: Course Grade Calculator
B5: =B12 -> CATEGORY 1 | H5: + | I5: =I12 -> CATEGORY 2 | O5: + | P5: =P12 -> CATEGORY 3 | V5: + | W5: =W12 -> CATEGORY 4 | AC5: + | AD5: =AD12 -> CATEGORY 5 | AJ5: + | AK5: =AK12 -> CATEGORY 6 | AQ5: = | AR5: CURRENT GRADE
B6: =IF(COUNTA(D15:D1000)=0,"",IF(F13="Equal",IF(AND(COUNTA(D15:D1000)=COUNT(D15:D1000),COUNTIFS(D15:D1000,"<0")=0,COUNT(F15:F1000)=COUNT(D15:D1000)),AVERAGE(F15:F1000),""),IF(F13="By Points",IF(AND(COUNTA(D15:D1000)=COUNT(D15:D1000),COUNT(D15:D1000)=COUNTIFS(D15:D1000,"<>",E15:E1000,">0"),COUNT(F15:F1000)=COUNT(D15:D1000)),SUM(D15:D1000)/SUMIF(D15:D1000,"<>",E15:E1000),""),IF(F13="Custom",IF(AND(COUNTA(D15:D1000)=COUNT(D15:D1000),COUNT(D15:D1000)=COUNTIFS(D15:D1000,"<>",G15:G1000,">0"),COUNT(F15:F1000)=COUNT(D15:D1000)),SUMPRODUCT(F15:F1000,G15:G1000)/SUMIF(D15:D1000,"<>",G15:G1000),""),"")))) | E6: × | F6: =IF(ISBLANK(D13),"",D13) | I6: =IF(COUNTA(K15:K1000)=0,"",IF(M13="Equal",IF(AND(COUNTA(K15:K1000)=COUNT(K15:K1000),COUNTIFS(K15:K1000,"<0")=0,COUNT(M15:M1000)=COUNT(K15:K1000)),AVERAGE(M15:M1000),""),IF(M13="By Points",IF(AND(COUNTA(K15:K1000)=COUNT(K15:K1000),COUNT(K15:K1000)=COUNTIFS(K15:K1000,"<>",L15:L1000,">0"),COUNT(M15:M1000)=COUNT(K15:K1000)),SUM(K15:K1000)/SUMIF(K15:K1000,"<>",L15:L1000),""),IF(M13="Custom",IF(AND(COUNTA(K15:K1000)=COUNT(K15:K1000),COUNT(K15:K1000)=COUNTIFS(K15:K1000,"<>",N15:N1000,">0"),COUNT(M15:M1000)=COUNT(K15:K1000)),SUMPRODUCT(M15:M1000,N15:N1000)/SUMIF(K15:K1000,"<>",N15:N1000),""),"")))) | L6: × | M6: =IF(ISBLANK(K13),"",K13) | P6: =IF(COUNTA(R15:R1000)=0,"",IF(T13="Equal",IF(AND(COUNTA(R15:R1000)=COUNT(R15:R1000),COUNTIFS(R15:R1000,"<0")=0,COUNT(T15:T1000)=COUNT(R15:R1000)),AVERAGE(T15:T1000),""),IF(T13="By Points",IF(AND(COUNTA(R15:R1000)=COUNT(R15:R1000),COUNT(R15:R1000)=COUNTIFS(R15:R1000,"<>",S15:S1000,">0"),COUNT(T15:T1000)=COUNT(R15:R1000)),SUM(R15:R1000)/SUMIF(R15:R1000,"<>",S15:S1000),""),IF(T13="Custom",IF(AND(COUNTA(R15:R1000)=COUNT(R15:R1000),COUNT(R15:R1000)=COUNTIFS(R15:R1000,"<>",U15:U1000,">0"),COUNT(T15:T1000)=COUNT(R15:R1000)),SUMPRODUCT(T15:T1000,U15:U1000)/SUMIF(R15:R1000,"<>",U15:U1000),""),"")))) | S6: × | T6: =IF(ISBLANK(R13),"",R13) | W6: =IF(COUNTA(Y15:Y1000)=0,"",IF(AA13="Equal",IF(AND(COUNTA(Y15:Y1000)=COUNT(Y15:Y1000),COUNTIFS(Y15:Y1000,"<0")=0,COUNT(AA15:AA1000)=COUNT(Y15:Y1000)),AVERAGE(AA15:AA1000),""),IF(AA13="By Points",IF(AND(COUNTA(Y15:Y1000)=COUNT(Y15:Y1000),COUNT(Y15:Y1000)=COUNTIFS(Y15:Y1000,"<>",Z15:Z1000,">0"),COUNT(AA15:AA1000)=COUNT(Y15:Y1000)),SUM(Y15:Y1000)/SUMIF(Y15:Y1000,"<>",Z15:Z1000),""),IF(AA13="Custom",IF(AND(COUNTA(Y15:Y1000)=COUNT(Y15:Y1000),COUNT(Y15:Y1000)=COUNTIFS(Y15:Y1000,"<>",AB15:AB1000,">0"),COUNT(AA15:AA1000)=COUNT(Y15:Y1000)),SUMPRODUCT(AA15:AA1000,AB15:AB1000)/SUMIF(Y15:Y1000,"<>",AB15:AB1000),""),"")))) | Z6: × | AA6: =IF(ISBLANK(Y13),"",Y13) | AD6: =IF(COUNTA(AF15:AF1000)=0,"",IF(AH13="Equal",IF(AND(COUNTA(AF15:AF1000)=COUNT(AF15:AF1000),COUNTIFS(AF15:AF1000,"<0")=0,COUNT(AH15:AH1000)=COUNT(AF15:AF1000)),AVERAGE(AH15:AH1000),""),IF(AH13="By Points",IF(AND(COUNTA(AF15:AF1000)=COUNT(AF15:AF1000),COUNT(AF15:AF1000)=COUNTIFS(AF15:AF1000,"<>",AG15:AG1000,">0"),COUNT(AH15:AH1000)=COUNT(AF15:AF1000)),SUM(AF15:AF1000)/SUMIF(AF15:AF1000,"<>",AG15:AG1000),""),IF(AH13="Custom",IF(AND(COUNTA(AF15:AF1000)=COUNT(AF15:AF1000),COUNT(AF15:AF1000)=COUNTIFS(AF15:AF1000,"<>",AI15:AI1000,">0"),COUNT(AH15:AH1000)=COUNT(AF15:AF1000)),SUMPRODUCT(AH15:AH1000,AI15:AI1000)/SUMIF(AF15:AF1000,"<>",AI15:AI1000),""),"")))) | AG6: × | AH6: =IF(ISBLANK(AF13),"",AF13) | AK6: =IF(COUNTA(AM15:AM1000)=0,"",IF(AO13="Equal",IF(AND(COUNTA(AM15:AM1000)=COUNT(AM15:AM1000),COUNTIFS(AM15:AM1000,"<0")=0,COUNT(AO15:AO1000)=COUNT(AM15:AM1000)),AVERAGE(AO15:AO1000),""),IF(AO13="By Points",IF(AND(COUNTA(AM15:AM1000)=COUNT(AM15:AM1000),COUNT(AM15:AM1000)=COUNTIFS(AM15:AM1000,"<>",AN15:AN1000,">0"),COUNT(AO15:AO1000)=COUNT(AM15:AM1000)),SUM(AM15:AM1000)/SUMIF(AM15:AM1000,"<>",AN15:AN1000),""),IF(AO13="Custom",IF(AND(COUNTA(AM15:AM1000)=COUNT(AM15:AM1000),COUNT(AM15:AM1000)=COUNTIFS(AM15:AM1000,"<>",AP15:AP1000,">0"),COUNT(AO15:AO1000)=COUNT(AM15:AM1000)),SUMPRODUCT(AO15:AO1000,AP15:AP1000)/SUMIF(AM15:AM1000,"<>",AP15:AP1000),""),"")))) | AN6: × | AO6: =IF(ISBLANK(AM13),"",AM13) | AR6: ACTIVE WEIGHT | AU6: =SUM(IF(ISNUMBER(B7),D13,0),IF(ISNUMBER(I7),K13,0),IF(ISNUMBER(P7),R13,0),IF(ISNUMBER(W7),Y13,0),IF(ISNUMBER(AD7),AF13,0),IF(ISNUMBER(AK7),AM13,0)) -> 0
B7: =IF(AND(ISBLANK(D13),COUNTA(D15:D1000)=0),"AVAILABLE",IF(OR(NOT(ISNUMBER(D13)),D13<=0,D13>1),"ENTER WEIGHT",IF(COUNTA(D15:D1000)=0,"NO GRADES",IF(NOT(ISNUMBER(B6)),"CHECK INPUTS",B6*D13)))) -> AVAILABLE | I7: =IF(AND(ISBLANK(K13),COUNTA(K15:K1000)=0),"AVAILABLE",IF(OR(NOT(ISNUMBER(K13)),K13<=0,K13>1),"ENTER WEIGHT",IF(COUNTA(K15:K1000)=0,"NO GRADES",IF(NOT(ISNUMBER(I6)),"CHECK INPUTS",I6*K13)))) -> AVAILABLE | P7: =IF(AND(ISBLANK(R13),COUNTA(R15:R1000)=0),"AVAILABLE",IF(OR(NOT(ISNUMBER(R13)),R13<=0,R13>1),"ENTER WEIGHT",IF(COUNTA(R15:R1000)=0,"NO GRADES",IF(NOT(ISNUMBER(P6)),"CHECK INPUTS",P6*R13)))) -> AVAILABLE | W7: =IF(AND(ISBLANK(Y13),COUNTA(Y15:Y1000)=0),"AVAILABLE",IF(OR(NOT(ISNUMBER(Y13)),Y13<=0,Y13>1),"ENTER WEIGHT",IF(COUNTA(Y15:Y1000)=0,"NO GRADES",IF(NOT(ISNUMBER(W6)),"CHECK INPUTS",W6*Y13)))) -> AVAILABLE | AD7: =IF(AND(ISBLANK(AF13),COUNTA(AF15:AF1000)=0),"AVAILABLE",IF(OR(NOT(ISNUMBER(AF13)),AF13<=0,AF13>1),"ENTER WEIGHT",IF(COUNTA(AF15:AF1000)=0,"NO GRADES",IF(NOT(ISNUMBER(AD6)),"CHECK INPUTS",AD6*AF13)))) -> AVAILABLE | AK7: =IF(AND(ISBLANK(AM13),COUNTA(AM15:AM1000)=0),"AVAILABLE",IF(OR(NOT(ISNUMBER(AM13)),AM13<=0,AM13>1),"ENTER WEIGHT",IF(COUNTA(AM15:AM1000)=0,"NO GRADES",IF(NOT(ISNUMBER(AK6)),"CHECK INPUTS",AK6*AM13)))) -> AVAILABLE | AR7: =IF(COUNTA(D13,K13,R13,Y13,AF13,AM13)=0,"ENTER WEIGHTS",IF(OR(AND(NOT(ISBLANK(D13)),OR(NOT(ISNUMBER(D13)),D13<=0,D13>1)),AND(NOT(ISBLANK(K13)),OR(NOT(ISNUMBER(K13)),K13<=0,K13>1)),AND(NOT(ISBLANK(R13)),OR(NOT(ISNUMBER(R13)),R13<=0,R13>1)),AND(NOT(ISBLANK(Y13)),OR(NOT(ISNUMBER(Y13)),Y13<=0,Y13>1)),AND(NOT(ISBLANK(AF13)),OR(NOT(ISNUMBER(AF13)),AF13<=0,AF13>1)),AND(NOT(ISBLANK(AM13)),OR(NOT(ISNUMBER(AM13)),AM13<=0,AM13>1))),"CHECK WEIGHTS",IF(OR(B7="ENTER WEIGHT",I7="ENTER WEIGHT",P7="ENTER WEIGHT",W7="ENTER WEIGHT",AD7="ENTER WEIGHT",AK7="ENTER WEIGHT"),"ENTER WEIGHTS",IF(ABS(SUM(D13,K13,R13,Y13,AF13,AM13)-1)>0.000001,"CHECK WEIGHTS",IF(OR(B7="CHECK INPUTS",I7="CHECK INPUTS",P7="CHECK INPUTS",W7="CHECK INPUTS",AD7="CHECK INPUTS",AK7="CHECK INPUTS"),"CHECK INPUTS",IF(SUM(IF(ISNUMBER(B7),D13,0),IF(ISNUMBER(I7),K13,0),IF(ISNUMBER(P7),R13,0),IF(ISNUMBER(W7),Y13,0),IF(ISNUMBER(AD7),AF13,0),IF(ISNUMBER(AK7),AM13,0))=0,"ENTER GRADES",SUM(B7,I7,P7,W7,AD7,AK7)/SUM(IF(ISNUMBER(B7),D13,0),IF(ISNUMBER(I7),K13,0),IF(ISNUMBER(P7),R13,0),IF(ISNUMBER(W7),Y13,0),IF(ISNUMBER(AD7),AF13,0),IF(ISNUMBER(AK7),AM13,0)))))))) -> ENTER WEIGHTS | AV7: =IF(NOT(ISNUMBER(AR7)),"",IF(COUNT(E9,G9,J9,L9)<4,"",IF(NOT(AND(E9>=0,E9<=100,G9>=0,G9<=100,J9>=0,J9<=100,L9>=0,L9<=100,E9>G9,G9>J9,J9>L9)),"CHECK TARGETS",IF(AR7*100>=E9,"A",IF(AR7*100>=G9,"B",IF(AR7*100>=J9,"C",IF(AR7*100>=L9,"D","F")))))))
B9: GRADE TARGETS | D9: A ≥ | F9: B ≥ | H9: C ≥ | K9: D ≥ | M9: F below D
B10: Enter weights as %. Leave Out Of blank for % scores; enter points otherwise. Custom uses Item Wt. Blank scores are ignored; 0 counts.
B12: CATEGORY 1 | I12: CATEGORY 2 | P12: CATEGORY 3 | W12: CATEGORY 4 | AD12: CATEGORY 5 | AK12: CATEGORY 6
B13: Course Weight | E13: Method | F13: Equal | I13: Course Weight | L13: Method | M13: Equal | P13: Course Weight | S13: Method | T13: Equal | W13: Course Weight | Z13: Method | AA13: Equal | AD13: Course Weight | AG13: Method | AH13: Equal | AK13: Course Weight | AN13: Method | AO13: Equal
B14: Assessment | C14: Due | D14: Earned | E14: Out Of | F14: Grade % (auto) | G14: Item Wt. | I14: Assessment | J14: Due | K14: Earned | L14: Out Of | M14: Grade % (auto) | N14: Item Wt. | P14: Assessment | Q14: Due | R14: Earned | S14: Out Of | T14: Grade % (auto) | U14: Item Wt. | W14: Assessment | X14: Due | Y14: Earned | Z14: Out Of | AA14: Grade % (auto) | AB14: Item Wt. | AD14: Assessment | AE14: Due | AF14: Earned | AG14: Out Of | AH14: Grade % (auto) | AI14: Item Wt. | AK14: Assessment | AL14: Due | AM14: Earned | AN14: Out Of | AO14: Grade % (auto) | AP14: Item Wt.
F15: =IF(ISBLANK(D15),"",IF(NOT(ISNUMBER(D15)),"",IF(ISBLANK(E15),IF(AND(D15>=0,D15<=1),D15,D15/100),IF(AND(ISNUMBER(E15),E15>0,D15>=0),D15/E15,"")))) | M15: =IF(ISBLANK(K15),"",IF(NOT(ISNUMBER(K15)),"",IF(ISBLANK(L15),IF(AND(K15>=0,K15<=1),K15,K15/100),IF(AND(ISNUMBER(L15),L15>0,K15>=0),K15/L15,"")))) | T15: =IF(ISBLANK(R15),"",IF(NOT(ISNUMBER(R15)),"",IF(ISBLANK(S15),IF(AND(R15>=0,R15<=1),R15,R15/100),IF(AND(ISNUMBER(S15),S15>0,R15>=0),R15/S15,"")))) | AA15: =IF(ISBLANK(Y15),"",IF(NOT(ISNUMBER(Y15)),"",IF(ISBLANK(Z15),IF(AND(Y15>=0,Y15<=1),Y15,Y15/100),IF(AND(ISNUMBER(Z15),Z15>0,Y15>=0),Y15/Z15,"")))) | AH15: =IF(ISBLANK(AF15),"",IF(NOT(ISNUMBER(AF15)),"",IF(ISBLANK(AG15),IF(AND(AF15>=0,AF15<=1),AF15,AF15/100),IF(AND(ISNUMBER(AG15),AG15>0,AF15>=0),AF15/AG15,"")))) | AO15: =IF(ISBLANK(AM15),"",IF(NOT(ISNUMBER(AM15)),"",IF(ISBLANK(AN15),IF(AND(AM15>=0,AM15<=1),AM15,AM15/100),IF(AND(ISNUMBER(AN15),AN15>0,AM15>=0),AM15/AN15,""))))
F16: =IF(ISBLANK(D16),"",IF(NOT(ISNUMBER(D16)),"",IF(ISBLANK(E16),IF(AND(D16>=0,D16<=1),D16,D16/100),IF(AND(ISNUMBER(E16),E16>0,D16>=0),D16/E16,"")))) | M16: =IF(ISBLANK(K16),"",IF(NOT(ISNUMBER(K16)),"",IF(ISBLANK(L16),IF(AND(K16>=0,K16<=1),K16,K16/100),IF(AND(ISNUMBER(L16),L16>0,K16>=0),K16/L16,"")))) | T16: =IF(ISBLANK(R16),"",IF(NOT(ISNUMBER(R16)),"",IF(ISBLANK(S16),IF(AND(R16>=0,R16<=1),R16,R16/100),IF(AND(ISNUMBER(S16),S16>0,R16>=0),R16/S16,"")))) | AA16: =IF(ISBLANK(Y16),"",IF(NOT(ISNUMBER(Y16)),"",IF(ISBLANK(Z16),IF(AND(Y16>=0,Y16<=1),Y16,Y16/100),IF(AND(ISNUMBER(Z16),Z16>0,Y16>=0),Y16/Z16,"")))) | AH16: =IF(ISBLANK(AF16),"",IF(NOT(ISNUMBER(AF16)),"",IF(ISBLANK(AG16),IF(AND(AF16>=0,AF16<=1),AF16,AF16/100),IF(AND(ISNUMBER(AG16),AG16>0,AF16>=0),AF16/AG16,"")))) | AO16: =IF(ISBLANK(AM16),"",IF(NOT(ISNUMBER(AM16)),"",IF(ISBLANK(AN16),IF(AND(AM16>=0,AM16<=1),AM16,AM16/100),IF(AND(ISNUMBER(AN16),AN16>0,AM16>=0),AM16/AN16,""))))
F17: =IF(ISBLANK(D17),"",IF(NOT(ISNUMBER(D17)),"",IF(ISBLANK(E17),IF(AND(D17>=0,D17<=1),D17,D17/100),IF(AND(ISNUMBER(E17),E17>0,D17>=0),D17/E17,"")))) | M17: =IF(ISBLANK(K17),"",IF(NOT(ISNUMBER(K17)),"",IF(ISBLANK(L17),IF(AND(K17>=0,K17<=1),K17,K17/100),IF(AND(ISNUMBER(L17),L17>0,K17>=0),K17/L17,"")))) | T17: =IF(ISBLANK(R17),"",IF(NOT(ISNUMBER(R17)),"",IF(ISBLANK(S17),IF(AND(R17>=0,R17<=1),R17,R17/100),IF(AND(ISNUMBER(S17),S17>0,R17>=0),R17/S17,"")))) | AA17: =IF(ISBLANK(Y17),"",IF(NOT(ISNUMBER(Y17)),"",IF(ISBLANK(Z17),IF(AND(Y17>=0,Y17<=1),Y17,Y17/100),IF(AND(ISNUMBER(Z17),Z17>0,Y17>=0),Y17/Z17,"")))) | AH17: =IF(ISBLANK(AF17),"",IF(NOT(ISNUMBER(AF17)),"",IF(ISBLANK(AG17),IF(AND(AF17>=0,AF17<=1),AF17,AF17/100),IF(AND(ISNUMBER(AG17),AG17>0,AF17>=0),AF17/AG17,"")))) | AO17: =IF(ISBLANK(AM17),"",IF(NOT(ISNUMBER(AM17)),"",IF(ISBLANK(AN17),IF(AND(AM17>=0,AM17<=1),AM17,AM17/100),IF(AND(ISNUMBER(AN17),AN17>0,AM17>=0),AM17/AN17,""))))
F18: =IF(ISBLANK(D18),"",IF(NOT(ISNUMBER(D18)),"",IF(ISBLANK(E18),IF(AND(D18>=0,D18<=1),D18,D18/100),IF(AND(ISNUMBER(E18),E18>0,D18>=0),D18/E18,"")))) | M18: =IF(ISBLANK(K18),"",IF(NOT(ISNUMBER(K18)),"",IF(ISBLANK(L18),IF(AND(K18>=0,K18<=1),K18,K18/100),IF(AND(ISNUMBER(L18),L18>0,K18>=0),K18/L18,"")))) | T18: =IF(ISBLANK(R18),"",IF(NOT(ISNUMBER(R18)),"",IF(ISBLANK(S18),IF(AND(R18>=0,R18<=1),R18,R18/100),IF(AND(ISNUMBER(S18),S18>0,R18>=0),R18/S18,"")))) | AA18: =IF(ISBLANK(Y18),"",IF(NOT(ISNUMBER(Y18)),"",IF(ISBLANK(Z18),IF(AND(Y18>=0,Y18<=1),Y18,Y18/100),IF(AND(ISNUMBER(Z18),Z18>0,Y18>=0),Y18/Z18,"")))) | AH18: =IF(ISBLANK(AF18),"",IF(NOT(ISNUMBER(AF18)),"",IF(ISBLANK(AG18),IF(AND(AF18>=0,AF18<=1),AF18,AF18/100),IF(AND(ISNUMBER(AG18),AG18>0,AF18>=0),AF18/AG18,"")))) | AO18: =IF(ISBLANK(AM18),"",IF(NOT(ISNUMBER(AM18)),"",IF(ISBLANK(AN18),IF(AND(AM18>=0,AM18<=1),AM18,AM18/100),IF(AND(ISNUMBER(AN18),AN18>0,AM18>=0),AM18/AN18,""))))

Sheet Class 2
AZ1: =IF(ISNUMBER($AR$7),$AR$7,"")
B2: COURSE CODE | AZ2: =IF(ISTEXT($AV$7),$AV$7,"")
B3: Course Grade Calculator
B5: =B12 -> CATEGORY 1 | H5: + | I5: =I12 -> CATEGORY 2 | O5: + | P5: =P12 -> CATEGORY 3 | V5: + | W5: =W12 -> CATEGORY 4 | AC5: + | AD5: =AD12 -> CATEGORY 5 | AJ5: + | AK5: =AK12 -> CATEGORY 6 | AQ5: = | AR5: CURRENT GRADE
B6: =IF(COUNTA(D15:D1000)=0,"",IF(F13="Equal",IF(AND(COUNTA(D15:D1000)=COUNT(D15:D1000),COUNTIFS(D15:D1000,"<0")=0,COUNT(F15:F1000)=COUNT(D15:D1000)),AVERAGE(F15:F1000),""),IF(F13="By Points",IF(AND(COUNTA(D15:D1000)=COUNT(D15:D1000),COUNT(D15:D1000)=COUNTIFS(D15:D1000,"<>",E15:E1000,">0"),COUNT(F15:F1000)=COUNT(D15:D1000)),SUM(D15:D1000)/SUMIF(D15:D1000,"<>",E15:E1000),""),IF(F13="Custom",IF(AND(COUNTA(D15:D1000)=COUNT(D15:D1000),COUNT(D15:D1000)=COUNTIFS(D15:D1000,"<>",G15:G1000,">0"),COUNT(F15:F1000)=COUNT(D15:D1000)),SUMPRODUCT(F15:F1000,G15:G1000)/SUMIF(D15:D1000,"<>",G15:G1000),""),"")))) | E6: × | F6: =IF(ISBLANK(D13),"",D13) | I6: =IF(COUNTA(K15:K1000)=0,"",IF(M13="Equal",IF(AND(COUNTA(K15:K1000)=COUNT(K15:K1000),COUNTIFS(K15:K1000,"<0")=0,COUNT(M15:M1000)=COUNT(K15:K1000)),AVERAGE(M15:M1000),""),IF(M13="By Points",IF(AND(COUNTA(K15:K1000)=COUNT(K15:K1000),COUNT(K15:K1000)=COUNTIFS(K15:K1000,"<>",L15:L1000,">0"),COUNT(M15:M1000)=COUNT(K15:K1000)),SUM(K15:K1000)/SUMIF(K15:K1000,"<>",L15:L1000),""),IF(M13="Custom",IF(AND(COUNTA(K15:K1000)=COUNT(K15:K1000),COUNT(K15:K1000)=COUNTIFS(K15:K1000,"<>",N15:N1000,">0"),COUNT(M15:M1000)=COUNT(K15:K1000)),SUMPRODUCT(M15:M1000,N15:N1000)/SUMIF(K15:K1000,"<>",N15:N1000),""),"")))) | L6: × | M6: =IF(ISBLANK(K13),"",K13) | P6: =IF(COUNTA(R15:R1000)=0,"",IF(T13="Equal",IF(AND(COUNTA(R15:R1000)=COUNT(R15:R1000),COUNTIFS(R15:R1000,"<0")=0,COUNT(T15:T1000)=COUNT(R15:R1000)),AVERAGE(T15:T1000),""),IF(T13="By Points",IF(AND(COUNTA(R15:R1000)=COUNT(R15:R1000),COUNT(R15:R1000)=COUNTIFS(R15:R1000,"<>",S15:S1000,">0"),COUNT(T15:T1000)=COUNT(R15:R1000)),SUM(R15:R1000)/SUMIF(R15:R1000,"<>",S15:S1000),""),IF(T13="Custom",IF(AND(COUNTA(R15:R1000)=COUNT(R15:R1000),COUNT(R15:R1000)=COUNTIFS(R15:R1000,"<>",U15:U1000,">0"),COUNT(T15:T1000)=COUNT(R15:R1000)),SUMPRODUCT(T15:T1000,U15:U1000)/SUMIF(R15:R1000,"<>",U15:U1000),""),"")))) | S6: × | T6: =IF(ISBLANK(R13),"",R13) | W6: =IF(COUNTA(Y15:Y1000)=0,"",IF(AA13="Equal",IF(AND(COUNTA(Y15:Y1000)=COUNT(Y15:Y1000),COUNTIFS(Y15:Y1000,"<0")=0,COUNT(AA15:AA1000)=COUNT(Y15:Y1000)),AVERAGE(AA15:AA1000),""),IF(AA13="By Points",IF(AND(COUNTA(Y15:Y1000)=COUNT(Y15:Y1000),COUNT(Y15:Y1000)=COUNTIFS(Y15:Y1000,"<>",Z15:Z1000,">0"),COUNT(AA15:AA1000)=COUNT(Y15:Y1000)),SUM(Y15:Y1000)/SUMIF(Y15:Y1000,"<>",Z15:Z1000),""),IF(AA13="Custom",IF(AND(COUNTA(Y15:Y1000)=COUNT(Y15:Y1000),COUNT(Y15:Y1000)=COUNTIFS(Y15:Y1000,"<>",AB15:AB1000,">0"),COUNT(AA15:AA1000)=COUNT(Y15:Y1000)),SUMPRODUCT(AA15:AA1000,AB15:AB1000)/SUMIF(Y15:Y1000,"<>",AB15:AB1000),""),"")))) | Z6: × | AA6: =IF(ISBLANK(Y13),"",Y13) | AD6: =IF(COUNTA(AF15:AF1000)=0,"",IF(AH13="Equal",IF(AND(COUNTA(AF15:AF1000)=COUNT(AF15:AF1000),COUNTIFS(AF15:AF1000,"<0")=0,COUNT(AH15:AH1000)=COUNT(AF15:AF1000)),AVERAGE(AH15:AH1000),""),IF(AH13="By Points",IF(AND(COUNTA(AF15:AF1000)=COUNT(AF15:AF1000),COUNT(AF15:AF1000)=COUNTIFS(AF15:AF1000,"<>",AG15:AG1000,">0"),COUNT(AH15:AH1000)=COUNT(AF15:AF1000)),SUM(AF15:AF1000)/SUMIF(AF15:AF1000,"<>",AG15:AG1000),""),IF(AH13="Custom",IF(AND(COUNTA(AF15:AF1000)=COUNT(AF15:AF1000),COUNT(AF15:AF1000)=COUNTIFS(AF15:AF1000,"<>",AI15:AI1000,">0"),COUNT(AH15:AH1000)=COUNT(AF15:AF1000)),SUMPRODUCT(AH15:AH1000,AI15:AI1000)/SUMIF(AF15:AF1000,"<>",AI15:AI1000),""),"")))) | AG6: × | AH6: =IF(ISBLANK(AF13),"",AF13) | AK6: =IF(COUNTA(AM15:AM1000)=0,"",IF(AO13="Equal",IF(AND(COUNTA(AM15:AM1000)=COUNT(AM15:AM1000),COUNTIFS(AM15:AM1000,"<0")=0,COUNT(AO15:AO1000)=COUNT(AM15:AM1000)),AVERAGE(AO15:AO1000),""),IF(AO13="By Points",IF(AND(COUNTA(AM15:AM1000)=COUNT(AM15:AM1000),COUNT(AM15:AM1000)=COUNTIFS(AM15:AM1000,"<>",AN15:AN1000,">0"),COUNT(AO15:AO1000)=COUNT(AM15:AM1000)),SUM(AM15:AM1000)/SUMIF(AM15:AM1000,"<>",AN15:AN1000),""),IF(AO13="Custom",IF(AND(COUNTA(AM15:AM1000)=COUNT(AM15:AM1000),COUNT(AM15:AM1000)=COUNTIFS(AM15:AM1000,"<>",AP15:AP1000,">0"),COUNT(AO15:AO1000)=COUNT(AM15:AM1000)),SUMPRODUCT(AO15:AO1000,AP15:AP1000)/SUMIF(AM15:AM1000,"<>",AP15:AP1000),""),"")))) | AN6: × | AO6: =IF(ISBLANK(AM13),"",AM13) | AR6: ACTIVE WEIGHT | AU6: =SUM(IF(ISNUMBER(B7),D13,0),IF(ISNUMBER(I7),K13,0),IF(ISNUMBER(P7),R13,0),IF(ISNUMBER(W7),Y13,0),IF(ISNUMBER(AD7),AF13,0),IF(ISNUMBER(AK7),AM13,0)) -> 0
B7: =IF(AND(ISBLANK(D13),COUNTA(D15:D1000)=0),"AVAILABLE",IF(OR(NOT(ISNUMBER(D13)),D13<=0,D13>1),"ENTER WEIGHT",IF(COUNTA(D15:D1000)=0,"NO GRADES",IF(NOT(ISNUMBER(B6)),"CHECK INPUTS",B6*D13)))) -> AVAILABLE | I7: =IF(AND(ISBLANK(K13),COUNTA(K15:K1000)=0),"AVAILABLE",IF(OR(NOT(ISNUMBER(K13)),K13<=0,K13>1),"ENTER WEIGHT",IF(COUNTA(K15:K1000)=0,"NO GRADES",IF(NOT(ISNUMBER(I6)),"CHECK INPUTS",I6*K13)))) -> AVAILABLE | P7: =IF(AND(ISBLANK(R13),COUNTA(R15:R1000)=0),"AVAILABLE",IF(OR(NOT(ISNUMBER(R13)),R13<=0,R13>1),"ENTER WEIGHT",IF(COUNTA(R15:R1000)=0,"NO GRADES",IF(NOT(ISNUMBER(P6)),"CHECK INPUTS",P6*R13)))) -> AVAILABLE | W7: =IF(AND(ISBLANK(Y13),COUNTA(Y15:Y1000)=0),"AVAILABLE",IF(OR(NOT(ISNUMBER(Y13)),Y13<=0,Y13>1),"ENTER WEIGHT",IF(COUNTA(Y15:Y1000)=0,"NO GRADES",IF(NOT(ISNUMBER(W6)),"CHECK INPUTS",W6*Y13)))) -> AVAILABLE | AD7: =IF(AND(ISBLANK(AF13),COUNTA(AF15:AF1000)=0),"AVAILABLE",IF(OR(NOT(ISNUMBER(AF13)),AF13<=0,AF13>1),"ENTER WEIGHT",IF(COUNTA(AF15:AF1000)=0,"NO GRADES",IF(NOT(ISNUMBER(AD6)),"CHECK INPUTS",AD6*AF13)))) -> AVAILABLE | AK7: =IF(AND(ISBLANK(AM13),COUNTA(AM15:AM1000)=0),"AVAILABLE",IF(OR(NOT(ISNUMBER(AM13)),AM13<=0,AM13>1),"ENTER WEIGHT",IF(COUNTA(AM15:AM1000)=0,"NO GRADES",IF(NOT(ISNUMBER(AK6)),"CHECK INPUTS",AK6*AM13)))) -> AVAILABLE | AR7: =IF(COUNTA(D13,K13,R13,Y13,AF13,AM13)=0,"ENTER WEIGHTS",IF(OR(AND(NOT(ISBLANK(D13)),OR(NOT(ISNUMBER(D13)),D13<=0,D13>1)),AND(NOT(ISBLANK(K13)),OR(NOT(ISNUMBER(K13)),K13<=0,K13>1)),AND(NOT(ISBLANK(R13)),OR(NOT(ISNUMBER(R13)),R13<=0,R13>1)),AND(NOT(ISBLANK(Y13)),OR(NOT(ISNUMBER(Y13)),Y13<=0,Y13>1)),AND(NOT(ISBLANK(AF13)),OR(NOT(ISNUMBER(AF13)),AF13<=0,AF13>1)),AND(NOT(ISBLANK(AM13)),OR(NOT(ISNUMBER(AM13)),AM13<=0,AM13>1))),"CHECK WEIGHTS",IF(OR(B7="ENTER WEIGHT",I7="ENTER WEIGHT",P7="ENTER WEIGHT",W7="ENTER WEIGHT",AD7="ENTER WEIGHT",AK7="ENTER WEIGHT"),"ENTER WEIGHTS",IF(ABS(SUM(D13,K13,R13,Y13,AF13,AM13)-1)>0.000001,"CHECK WEIGHTS",IF(OR(B7="CHECK INPUTS",I7="CHECK INPUTS",P7="CHECK INPUTS",W7="CHECK INPUTS",AD7="CHECK INPUTS",AK7="CHECK INPUTS"),"CHECK INPUTS",IF(SUM(IF(ISNUMBER(B7),D13,0),IF(ISNUMBER(I7),K13,0),IF(ISNUMBER(P7),R13,0),IF(ISNUMBER(W7),Y13,0),IF(ISNUMBER(AD7),AF13,0),IF(ISNUMBER(AK7),AM13,0))=0,"ENTER GRADES",SUM(B7,I7,P7,W7,AD7,AK7)/SUM(IF(ISNUMBER(B7),D13,0),IF(ISNUMBER(I7),K13,0),IF(ISNUMBER(P7),R13,0),IF(ISNUMBER(W7),Y13,0),IF(ISNUMBER(AD7),AF13,0),IF(ISNUMBER(AK7),AM13,0)))))))) -> ENTER WEIGHTS | AV7: =IF(NOT(ISNUMBER(AR7)),"",IF(COUNT(E9,G9,J9,L9)<4,"",IF(NOT(AND(E9>=0,E9<=100,G9>=0,G9<=100,J9>=0,J9<=100,L9>=0,L9<=100,E9>G9,G9>J9,J9>L9)),"CHECK TARGETS",IF(AR7*100>=E9,"A",IF(AR7*100>=G9,"B",IF(AR7*100>=J9,"C",IF(AR7*100>=L9,"D","F")))))))
B9: GRADE TARGETS | D9: A ≥ | F9: B ≥ | H9: C ≥ | K9: D ≥ | M9: F below D
B10: Enter weights as %. Leave Out Of blank for % scores; enter points otherwise. Custom uses Item Wt. Blank scores are ignored; 0 counts.
B12: CATEGORY 1 | I12: CATEGORY 2 | P12: CATEGORY 3 | W12: CATEGORY 4 | AD12: CATEGORY 5 | AK12: CATEGORY 6
B13: Course Weight | E13: Method | F13: Equal | I13: Course Weight | L13: Method | M13: Equal | P13: Course Weight | S13: Method | T13: Equal | W13: Course Weight | Z13: Method | AA13: Equal | AD13: Course Weight | AG13: Method | AH13: Equal | AK13: Course Weight | AN13: Method | AO13: Equal
B14: Assessment | C14: Due | D14: Earned | E14: Out Of | F14: Grade % (auto) | G14: Item Wt. | I14: Assessment | J14: Due | K14: Earned | L14: Out Of | M14: Grade % (auto) | N14: Item Wt. | P14: Assessment | Q14: Due | R14: Earned | S14: Out Of | T14: Grade % (auto) | U14: Item Wt. | W14: Assessment | X14: Due | Y14: Earned | Z14: Out Of | AA14: Grade % (auto) | AB14: Item Wt. | AD14: Assessment | AE14: Due | AF14: Earned | AG14: Out Of | AH14: Grade % (auto) | AI14: Item Wt. | AK14: Assessment | AL14: Due | AM14: Earned | AN14: Out Of | AO14: Grade % (auto) | AP14: Item Wt.
F15: =IF(ISBLANK(D15),"",IF(NOT(ISNUMBER(D15)),"",IF(ISBLANK(E15),IF(AND(D15>=0,D15<=1),D15,D15/100),IF(AND(ISNUMBER(E15),E15>0,D15>=0),D15/E15,"")))) | M15: =IF(ISBLANK(K15),"",IF(NOT(ISNUMBER(K15)),"",IF(ISBLANK(L15),IF(AND(K15>=0,K15<=1),K15,K15/100),IF(AND(ISNUMBER(L15),L15>0,K15>=0),K15/L15,"")))) | T15: =IF(ISBLANK(R15),"",IF(NOT(ISNUMBER(R15)),"",IF(ISBLANK(S15),IF(AND(R15>=0,R15<=1),R15,R15/100),IF(AND(ISNUMBER(S15),S15>0,R15>=0),R15/S15,"")))) | AA15: =IF(ISBLANK(Y15),"",IF(NOT(ISNUMBER(Y15)),"",IF(ISBLANK(Z15),IF(AND(Y15>=0,Y15<=1),Y15,Y15/100),IF(AND(ISNUMBER(Z15),Z15>0,Y15>=0),Y15/Z15,"")))) | AH15: =IF(ISBLANK(AF15),"",IF(NOT(ISNUMBER(AF15)),"",IF(ISBLANK(AG15),IF(AND(AF15>=0,AF15<=1),AF15,AF15/100),IF(AND(ISNUMBER(AG15),AG15>0,AF15>=0),AF15/AG15,"")))) | AO15: =IF(ISBLANK(AM15),"",IF(NOT(ISNUMBER(AM15)),"",IF(ISBLANK(AN15),IF(AND(AM15>=0,AM15<=1),AM15,AM15/100),IF(AND(ISNUMBER(AN15),AN15>0,AM15>=0),AM15/AN15,""))))
F16: =IF(ISBLANK(D16),"",IF(NOT(ISNUMBER(D16)),"",IF(ISBLANK(E16),IF(AND(D16>=0,D16<=1),D16,D16/100),IF(AND(ISNUMBER(E16),E16>0,D16>=0),D16/E16,"")))) | M16: =IF(ISBLANK(K16),"",IF(NOT(ISNUMBER(K16)),"",IF(ISBLANK(L16),IF(AND(K16>=0,K16<=1),K16,K16/100),IF(AND(ISNUMBER(L16),L16>0,K16>=0),K16/L16,"")))) | T16: =IF(ISBLANK(R16),"",IF(NOT(ISNUMBER(R16)),"",IF(ISBLANK(S16),IF(AND(R16>=0,R16<=1),R16,R16/100),IF(AND(ISNUMBER(S16),S16>0,R16>=0),R16/S16,"")))) | AA16: =IF(ISBLANK(Y16),"",IF(NOT(ISNUMBER(Y16)),"",IF(ISBLANK(Z16),IF(AND(Y16>=0,Y16<=1),Y16,Y16/100),IF(AND(ISNUMBER(Z16),Z16>0,Y16>=0),Y16/Z16,"")))) | AH16: =IF(ISBLANK(AF16),"",IF(NOT(ISNUMBER(AF16)),"",IF(ISBLANK(AG16),IF(AND(AF16>=0,AF16<=1),AF16,AF16/100),IF(AND(ISNUMBER(AG16),AG16>0,AF16>=0),AF16/AG16,"")))) | AO16: =IF(ISBLANK(AM16),"",IF(NOT(ISNUMBER(AM16)),"",IF(ISBLANK(AN16),IF(AND(AM16>=0,AM16<=1),AM16,AM16/100),IF(AND(ISNUMBER(AN16),AN16>0,AM16>=0),AM16/AN16,""))))
F17: =IF(ISBLANK(D17),"",IF(NOT(ISNUMBER(D17)),"",IF(ISBLANK(E17),IF(AND(D17>=0,D17<=1),D17,D17/100),IF(AND(ISNUMBER(E17),E17>0,D17>=0),D17/E17,"")))) | M17: =IF(ISBLANK(K17),"",IF(NOT(ISNUMBER(K17)),"",IF(ISBLANK(L17),IF(AND(K17>=0,K17<=1),K17,K17/100),IF(AND(ISNUMBER(L17),L17>0,K17>=0),K17/L17,"")))) | T17: =IF(ISBLANK(R17),"",IF(NOT(ISNUMBER(R17)),"",IF(ISBLANK(S17),IF(AND(R17>=0,R17<=1),R17,R17/100),IF(AND(ISNUMBER(S17),S17>0,R17>=0),R17/S17,"")))) | AA17: =IF(ISBLANK(Y17),"",IF(NOT(ISNUMBER(Y17)),"",IF(ISBLANK(Z17),IF(AND(Y17>=0,Y17<=1),Y17,Y17/100),IF(AND(ISNUMBER(Z17),Z17>0,Y17>=0),Y17/Z17,"")))) | AH17: =IF(ISBLANK(AF17),"",IF(NOT(ISNUMBER(AF17)),"",IF(ISBLANK(AG17),IF(AND(AF17>=0,AF17<=1),AF17,AF17/100),IF(AND(ISNUMBER(AG17),AG17>0,AF17>=0),AF17/AG17,"")))) | AO17: =IF(ISBLANK(AM17),"",IF(NOT(ISNUMBER(AM17)),"",IF(ISBLANK(AN17),IF(AND(AM17>=0,AM17<=1),AM17,AM17/100),IF(AND(ISNUMBER(AN17),AN17>0,AM17>=0),AM17/AN17,""))))
F18: =IF(ISBLANK(D18),"",IF(NOT(ISNUMBER(D18)),"",IF(ISBLANK(E18),IF(AND(D18>=0,D18<=1),D18,D18/100),IF(AND(ISNUMBER(E18),E18>0,D18>=0),D18/E18,"")))) | M18: =IF(ISBLANK(K18),"",IF(NOT(ISNUMBER(K18)),"",IF(ISBLANK(L18),IF(AND(K18>=0,K18<=1),K18,K18/100),IF(AND(ISNUMBER(L18),L18>0,K18>=0),K18/L18,"")))) | T18: =IF(ISBLANK(R18),"",IF(NOT(ISNUMBER(R18)),"",IF(ISBLANK(S18),IF(AND(R18>=0,R18<=1),R18,R18/100),IF(AND(ISNUMBER(S18),S18>0,R18>=0),R18/S18,"")))) | AA18: =IF(ISBLANK(Y18),"",IF(NOT(ISNUMBER(Y18)),"",IF(ISBLANK(Z18),IF(AND(Y18>=0,Y18<=1),Y18,Y18/100),IF(AND(ISNUMBER(Z18),Z18>0,Y18>=0),Y18/Z18,"")))) | AH18: =IF(ISBLANK(AF18),"",IF(NOT(ISNUMBER(AF18)),"",IF(ISBLANK(AG18),IF(AND(AF18>=0,AF18<=1),AF18,AF18/100),IF(AND(ISNUMBER(AG18),AG18>0,AF18>=0),AF18/AG18,"")))) | AO18: =IF(ISBLANK(AM18),"",IF(NOT(ISNUMBER(AM18)),"",IF(ISBLANK(AN18),IF(AND(AM18>=0,AM18<=1),AM18,AM18/100),IF(AND(ISNUMBER(AN18),AN18>0,AM18>=0),AM18/AN18,""))))

Sheet Class 3
AZ1: =IF(ISNUMBER($AR$7),$AR$7,"")
B2: COURSE CODE | AZ2: =IF(ISTEXT($AV$7),$AV$7,"")
B3: Course Grade Calculator
B5: =B12 -> CATEGORY 1 | H5: + | I5: =I12 -> CATEGORY 2 | O5: + | P5: =P12 -> CATEGORY 3 | V5: + | W5: =W12 -> CATEGORY 4 | AC5: + | AD5: =AD12 -> CATEGORY 5 | AJ5: + | AK5: =AK12 -> CATEGORY 6 | AQ5: = | AR5: CURRENT GRADE
B6: =IF(COUNTA(D15:D1000)=0,"",IF(F13="Equal",IF(AND(COUNTA(D15:D1000)=COUNT(D15:D1000),COUNTIFS(D15:D1000,"<0")=0,COUNT(F15:F1000)=COUNT(D15:D1000)),AVERAGE(F15:F1000),""),IF(F13="By Points",IF(AND(COUNTA(D15:D1000)=COUNT(D15:D1000),COUNT(D15:D1000)=COUNTIFS(D15:D1000,"<>",E15:E1000,">0"),COUNT(F15:F1000)=COUNT(D15:D1000)),SUM(D15:D1000)/SUMIF(D15:D1000,"<>",E15:E1000),""),IF(F13="Custom",IF(AND(COUNTA(D15:D1000)=COUNT(D15:D1000),COUNT(D15:D1000)=COUNTIFS(D15:D1000,"<>",G15:G1000,">0"),COUNT(F15:F1000)=COUNT(D15:D1000)),SUMPRODUCT(F15:F1000,G15:G1000)/SUMIF(D15:D1000,"<>",G15:G1000),""),"")))) | E6: × | F6: =IF(ISBLANK(D13),"",D13) | I6: =IF(COUNTA(K15:K1000)=0,"",IF(M13="Equal",IF(AND(COUNTA(K15:K1000)=COUNT(K15:K1000),COUNTIFS(K15:K1000,"<0")=0,COUNT(M15:M1000)=COUNT(K15:K1000)),AVERAGE(M15:M1000),""),IF(M13="By Points",IF(AND(COUNTA(K15:K1000)=COUNT(K15:K1000),COUNT(K15:K1000)=COUNTIFS(K15:K1000,"<>",L15:L1000,">0"),COUNT(M15:M1000)=COUNT(K15:K1000)),SUM(K15:K1000)/SUMIF(K15:K1000,"<>",L15:L1000),""),IF(M13="Custom",IF(AND(COUNTA(K15:K1000)=COUNT(K15:K1000),COUNT(K15:K1000)=COUNTIFS(K15:K1000,"<>",N15:N1000,">0"),COUNT(M15:M1000)=COUNT(K15:K1000)),SUMPRODUCT(M15:M1000,N15:N1000)/SUMIF(K15:K1000,"<>",N15:N1000),""),"")))) | L6: × | M6: =IF(ISBLANK(K13),"",K13) | P6: =IF(COUNTA(R15:R1000)=0,"",IF(T13="Equal",IF(AND(COUNTA(R15:R1000)=COUNT(R15:R1000),COUNTIFS(R15:R1000,"<0")=0,COUNT(T15:T1000)=COUNT(R15:R1000)),AVERAGE(T15:T1000),""),IF(T13="By Points",IF(AND(COUNTA(R15:R1000)=COUNT(R15:R1000),COUNT(R15:R1000)=COUNTIFS(R15:R1000,"<>",S15:S1000,">0"),COUNT(T15:T1000)=COUNT(R15:R1000)),SUM(R15:R1000)/SUMIF(R15:R1000,"<>",S15:S1000),""),IF(T13="Custom",IF(AND(COUNTA(R15:R1000)=COUNT(R15:R1000),COUNT(R15:R1000)=COUNTIFS(R15:R1000,"<>",U15:U1000,">0"),COUNT(T15:T1000)=COUNT(R15:R1000)),SUMPRODUCT(T15:T1000,U15:U1000)/SUMIF(R15:R1000,"<>",U15:U1000),""),"")))) | S6: × | T6: =IF(ISBLANK(R13),"",R13) | W6: =IF(COUNTA(Y15:Y1000)=0,"",IF(AA13="Equal",IF(AND(COUNTA(Y15:Y1000)=COUNT(Y15:Y1000),COUNTIFS(Y15:Y1000,"<0")=0,COUNT(AA15:AA1000)=COUNT(Y15:Y1000)),AVERAGE(AA15:AA1000),""),IF(AA13="By Points",IF(AND(COUNTA(Y15:Y1000)=COUNT(Y15:Y1000),COUNT(Y15:Y1000)=COUNTIFS(Y15:Y1000,"<>",Z15:Z1000,">0"),COUNT(AA15:AA1000)=COUNT(Y15:Y1000)),SUM(Y15:Y1000)/SUMIF(Y15:Y1000,"<>",Z15:Z1000),""),IF(AA13="Custom",IF(AND(COUNTA(Y15:Y1000)=COUNT(Y15:Y1000),COUNT(Y15:Y1000)=COUNTIFS(Y15:Y1000,"<>",AB15:AB1000,">0"),COUNT(AA15:AA1000)=COUNT(Y15:Y1000)),SUMPRODUCT(AA15:AA1000,AB15:AB1000)/SUMIF(Y15:Y1000,"<>",AB15:AB1000),""),"")))) | Z6: × | AA6: =IF(ISBLANK(Y13),"",Y13) | AD6: =IF(COUNTA(AF15:AF1000)=0,"",IF(AH13="Equal",IF(AND(COUNTA(AF15:AF1000)=COUNT(AF15:AF1000),COUNTIFS(AF15:AF1000,"<0")=0,COUNT(AH15:AH1000)=COUNT(AF15:AF1000)),AVERAGE(AH15:AH1000),""),IF(AH13="By Points",IF(AND(COUNTA(AF15:AF1000)=COUNT(AF15:AF1000),COUNT(AF15:AF1000)=COUNTIFS(AF15:AF1000,"<>",AG15:AG1000,">0"),COUNT(AH15:AH1000)=COUNT(AF15:AF1000)),SUM(AF15:AF1000)/SUMIF(AF15:AF1000,"<>",AG15:AG1000),""),IF(AH13="Custom",IF(AND(COUNTA(AF15:AF1000)=COUNT(AF15:AF1000),COUNT(AF15:AF1000)=COUNTIFS(AF15:AF1000,"<>",AI15:AI1000,">0"),COUNT(AH15:AH1000)=COUNT(AF15:AF1000)),SUMPRODUCT(AH15:AH1000,AI15:AI1000)/SUMIF(AF15:AF1000,"<>",AI15:AI1000),""),"")))) | AG6: × | AH6: =IF(ISBLANK(AF13),"",AF13) | AK6: =IF(COUNTA(AM15:AM1000)=0,"",IF(AO13="Equal",IF(AND(COUNTA(AM15:AM1000)=COUNT(AM15:AM1000),COUNTIFS(AM15:AM1000,"<0")=0,COUNT(AO15:AO1000)=COUNT(AM15:AM1000)),AVERAGE(AO15:AO1000),""),IF(AO13="By Points",IF(AND(COUNTA(AM15:AM1000)=COUNT(AM15:AM1000),COUNT(AM15:AM1000)=COUNTIFS(AM15:AM1000,"<>",AN15:AN1000,">0"),COUNT(AO15:AO1000)=COUNT(AM15:AM1000)),SUM(AM15:AM1000)/SUMIF(AM15:AM1000,"<>",AN15:AN1000),""),IF(AO13="Custom",IF(AND(COUNTA(AM15:AM1000)=COUNT(AM15:AM1000),COUNT(AM15:AM1000)=COUNTIFS(AM15:AM1000,"<>",AP15:AP1000,">0"),COUNT(AO15:AO1000)=COUNT(AM15:AM1000)),SUMPRODUCT(AO15:AO1000,AP15:AP1000)/SUMIF(AM15:AM1000,"<>",AP15:AP1000),""),"")))) | AN6: × | AO6: =IF(ISBLANK(AM13),"",AM13) | AR6: ACTIVE WEIGHT | AU6: =SUM(IF(ISNUMBER(B7),D13,0),IF(ISNUMBER(I7),K13,0),IF(ISNUMBER(P7),R13,0),IF(ISNUMBER(W7),Y13,0),IF(ISNUMBER(AD7),AF13,0),IF(ISNUMBER(AK7),AM13,0)) -> 0
B7: =IF(AND(ISBLANK(D13),COUNTA(D15:D1000)=0),"AVAILABLE",IF(OR(NOT(ISNUMBER(D13)),D13<=0,D13>1),"ENTER WEIGHT",IF(COUNTA(D15:D1000)=0,"NO GRADES",IF(NOT(ISNUMBER(B6)),"CHECK INPUTS",B6*D13)))) -> AVAILABLE | I7: =IF(AND(ISBLANK(K13),COUNTA(K15:K1000)=0),"AVAILABLE",IF(OR(NOT(ISNUMBER(K13)),K13<=0,K13>1),"ENTER WEIGHT",IF(COUNTA(K15:K1000)=0,"NO GRADES",IF(NOT(ISNUMBER(I6)),"CHECK INPUTS",I6*K13)))) -> AVAILABLE | P7: =IF(AND(ISBLANK(R13),COUNTA(R15:R1000)=0),"AVAILABLE",IF(OR(NOT(ISNUMBER(R13)),R13<=0,R13>1),"ENTER WEIGHT",IF(COUNTA(R15:R1000)=0,"NO GRADES",IF(NOT(ISNUMBER(P6)),"CHECK INPUTS",P6*R13)))) -> AVAILABLE | W7: =IF(AND(ISBLANK(Y13),COUNTA(Y15:Y1000)=0),"AVAILABLE",IF(OR(NOT(ISNUMBER(Y13)),Y13<=0,Y13>1),"ENTER WEIGHT",IF(COUNTA(Y15:Y1000)=0,"NO GRADES",IF(NOT(ISNUMBER(W6)),"CHECK INPUTS",W6*Y13)))) -> AVAILABLE | AD7: =IF(AND(ISBLANK(AF13),COUNTA(AF15:AF1000)=0),"AVAILABLE",IF(OR(NOT(ISNUMBER(AF13)),AF13<=0,AF13>1),"ENTER WEIGHT",IF(COUNTA(AF15:AF1000)=0,"NO GRADES",IF(NOT(ISNUMBER(AD6)),"CHECK INPUTS",AD6*AF13)))) -> AVAILABLE | AK7: =IF(AND(ISBLANK(AM13),COUNTA(AM15:AM1000)=0),"AVAILABLE",IF(OR(NOT(ISNUMBER(AM13)),AM13<=0,AM13>1),"ENTER WEIGHT",IF(COUNTA(AM15:AM1000)=0,"NO GRADES",IF(NOT(ISNUMBER(AK6)),"CHECK INPUTS",AK6*AM13)))) -> AVAILABLE | AR7: =IF(COUNTA(D13,K13,R13,Y13,AF13,AM13)=0,"ENTER WEIGHTS",IF(OR(AND(NOT(ISBLANK(D13)),OR(NOT(ISNUMBER(D13)),D13<=0,D13>1)),AND(NOT(ISBLANK(K13)),OR(NOT(ISNUMBER(K13)),K13<=0,K13>1)),AND(NOT(ISBLANK(R13)),OR(NOT(ISNUMBER(R13)),R13<=0,R13>1)),AND(NOT(ISBLANK(Y13)),OR(NOT(ISNUMBER(Y13)),Y13<=0,Y13>1)),AND(NOT(ISBLANK(AF13)),OR(NOT(ISNUMBER(AF13)),AF13<=0,AF13>1)),AND(NOT(ISBLANK(AM13)),OR(NOT(ISNUMBER(AM13)),AM13<=0,AM13>1))),"CHECK WEIGHTS",IF(OR(B7="ENTER WEIGHT",I7="ENTER WEIGHT",P7="ENTER WEIGHT",W7="ENTER WEIGHT",AD7="ENTER WEIGHT",AK7="ENTER WEIGHT"),"ENTER WEIGHTS",IF(ABS(SUM(D13,K13,R13,Y13,AF13,AM13)-1)>0.000001,"CHECK WEIGHTS",IF(OR(B7="CHECK INPUTS",I7="CHECK INPUTS",P7="CHECK INPUTS",W7="CHECK INPUTS",AD7="CHECK INPUTS",AK7="CHECK INPUTS"),"CHECK INPUTS",IF(SUM(IF(ISNUMBER(B7),D13,0),IF(ISNUMBER(I7),K13,0),IF(ISNUMBER(P7),R13,0),IF(ISNUMBER(W7),Y13,0),IF(ISNUMBER(AD7),AF13,0),IF(ISNUMBER(AK7),AM13,0))=0,"ENTER GRADES",SUM(B7,I7,P7,W7,AD7,AK7)/SUM(IF(ISNUMBER(B7),D13,0),IF(ISNUMBER(I7),K13,0),IF(ISNUMBER(P7),R13,0),IF(ISNUMBER(W7),Y13,0),IF(ISNUMBER(AD7),AF13,0),IF(ISNUMBER(AK7),AM13,0)))))))) -> ENTER WEIGHTS | AV7: =IF(NOT(ISNUMBER(AR7)),"",IF(COUNT(E9,G9,J9,L9)<4,"",IF(NOT(AND(E9>=0,E9<=100,G9>=0,G9<=100,J9>=0,J9<=100,L9>=0,L9<=100,E9>G9,G9>J9,J9>L9)),"CHECK TARGETS",IF(AR7*100>=E9,"A",IF(AR7*100>=G9,"B",IF(AR7*100>=J9,"C",IF(AR7*100>=L9,"D","F")))))))
B9: GRADE TARGETS | D9: A ≥ | F9: B ≥ | H9: C ≥ | K9: D ≥ | M9: F below D
B10: Enter weights as %. Leave Out Of blank for % scores; enter points otherwise. Custom uses Item Wt. Blank scores are ignored; 0 counts.
B12: CATEGORY 1 | I12: CATEGORY 2 | P12: CATEGORY 3 | W12: CATEGORY 4 | AD12: CATEGORY 5 | AK12: CATEGORY 6
B13: Course Weight | E13: Method | F13: Equal | I13: Course Weight | L13: Method | M13: Equal | P13: Course Weight | S13: Method | T13: Equal | W13: Course Weight | Z13: Method | AA13: Equal | AD13: Course Weight | AG13: Method | AH13: Equal | AK13: Course Weight | AN13: Method | AO13: Equal
B14: Assessment | C14: Due | D14: Earned | E14: Out Of | F14: Grade % (auto) | G14: Item Wt. | I14: Assessment | J14: Due | K14: Earned | L14: Out Of | M14: Grade % (auto) | N14: Item Wt. | P14: Assessment | Q14: Due | R14: Earned | S14: Out Of | T14: Grade % (auto) | U14: Item Wt. | W14: Assessment | X14: Due | Y14: Earned | Z14: Out Of | AA14: Grade % (auto) | AB14: Item Wt. | AD14: Assessment | AE14: Due | AF14: Earned | AG14: Out Of | AH14: Grade % (auto) | AI14: Item Wt. | AK14: Assessment | AL14: Due | AM14: Earned | AN14: Out Of | AO14: Grade % (auto) | AP14: Item Wt.
F15: =IF(ISBLANK(D15),"",IF(NOT(ISNUMBER(D15)),"",IF(ISBLANK(E15),IF(AND(D15>=0,D15<=1),D15,D15/100),IF(AND(ISNUMBER(E15),E15>0,D15>=0),D15/E15,"")))) | M15: =IF(ISBLANK(K15),"",IF(NOT(ISNUMBER(K15)),"",IF(ISBLANK(L15),IF(AND(K15>=0,K15<=1),K15,K15/100),IF(AND(ISNUMBER(L15),L15>0,K15>=0),K15/L15,"")))) | T15: =IF(ISBLANK(R15),"",IF(NOT(ISNUMBER(R15)),"",IF(ISBLANK(S15),IF(AND(R15>=0,R15<=1),R15,R15/100),IF(AND(ISNUMBER(S15),S15>0,R15>=0),R15/S15,"")))) | AA15: =IF(ISBLANK(Y15),"",IF(NOT(ISNUMBER(Y15)),"",IF(ISBLANK(Z15),IF(AND(Y15>=0,Y15<=1),Y15,Y15/100),IF(AND(ISNUMBER(Z15),Z15>0,Y15>=0),Y15/Z15,"")))) | AH15: =IF(ISBLANK(AF15),"",IF(NOT(ISNUMBER(AF15)),"",IF(ISBLANK(AG15),IF(AND(AF15>=0,AF15<=1),AF15,AF15/100),IF(AND(ISNUMBER(AG15),AG15>0,AF15>=0),AF15/AG15,"")))) | AO15: =IF(ISBLANK(AM15),"",IF(NOT(ISNUMBER(AM15)),"",IF(ISBLANK(AN15),IF(AND(AM15>=0,AM15<=1),AM15,AM15/100),IF(AND(ISNUMBER(AN15),AN15>0,AM15>=0),AM15/AN15,""))))
F16: =IF(ISBLANK(D16),"",IF(NOT(ISNUMBER(D16)),"",IF(ISBLANK(E16),IF(AND(D16>=0,D16<=1),D16,D16/100),IF(AND(ISNUMBER(E16),E16>0,D16>=0),D16/E16,"")))) | M16: =IF(ISBLANK(K16),"",IF(NOT(ISNUMBER(K16)),"",IF(ISBLANK(L16),IF(AND(K16>=0,K16<=1),K16,K16/100),IF(AND(ISNUMBER(L16),L16>0,K16>=0),K16/L16,"")))) | T16: =IF(ISBLANK(R16),"",IF(NOT(ISNUMBER(R16)),"",IF(ISBLANK(S16),IF(AND(R16>=0,R16<=1),R16,R16/100),IF(AND(ISNUMBER(S16),S16>0,R16>=0),R16/S16,"")))) | AA16: =IF(ISBLANK(Y16),"",IF(NOT(ISNUMBER(Y16)),"",IF(ISBLANK(Z16),IF(AND(Y16>=0,Y16<=1),Y16,Y16/100),IF(AND(ISNUMBER(Z16),Z16>0,Y16>=0),Y16/Z16,"")))) | AH16: =IF(ISBLANK(AF16),"",IF(NOT(ISNUMBER(AF16)),"",IF(ISBLANK(AG16),IF(AND(AF16>=0,AF16<=1),AF16,AF16/100),IF(AND(ISNUMBER(AG16),AG16>0,AF16>=0),AF16/AG16,"")))) | AO16: =IF(ISBLANK(AM16),"",IF(NOT(ISNUMBER(AM16)),"",IF(ISBLANK(AN16),IF(AND(AM16>=0,AM16<=1),AM16,AM16/100),IF(AND(ISNUMBER(AN16),AN16>0,AM16>=0),AM16/AN16,""))))
F17: =IF(ISBLANK(D17),"",IF(NOT(ISNUMBER(D17)),"",IF(ISBLANK(E17),IF(AND(D17>=0,D17<=1),D17,D17/100),IF(AND(ISNUMBER(E17),E17>0,D17>=0),D17/E17,"")))) | M17: =IF(ISBLANK(K17),"",IF(NOT(ISNUMBER(K17)),"",IF(ISBLANK(L17),IF(AND(K17>=0,K17<=1),K17,K17/100),IF(AND(ISNUMBER(L17),L17>0,K17>=0),K17/L17,"")))) | T17: =IF(ISBLANK(R17),"",IF(NOT(ISNUMBER(R17)),"",IF(ISBLANK(S17),IF(AND(R17>=0,R17<=1),R17,R17/100),IF(AND(ISNUMBER(S17),S17>0,R17>=0),R17/S17,"")))) | AA17: =IF(ISBLANK(Y17),"",IF(NOT(ISNUMBER(Y17)),"",IF(ISBLANK(Z17),IF(AND(Y17>=0,Y17<=1),Y17,Y17/100),IF(AND(ISNUMBER(Z17),Z17>0,Y17>=0),Y17/Z17,"")))) | AH17: =IF(ISBLANK(AF17),"",IF(NOT(ISNUMBER(AF17)),"",IF(ISBLANK(AG17),IF(AND(AF17>=0,AF17<=1),AF17,AF17/100),IF(AND(ISNUMBER(AG17),AG17>0,AF17>=0),AF17/AG17,"")))) | AO17: =IF(ISBLANK(AM17),"",IF(NOT(ISNUMBER(AM17)),"",IF(ISBLANK(AN17),IF(AND(AM17>=0,AM17<=1),AM17,AM17/100),IF(AND(ISNUMBER(AN17),AN17>0,AM17>=0),AM17/AN17,""))))
F18: =IF(ISBLANK(D18),"",IF(NOT(ISNUMBER(D18)),"",IF(ISBLANK(E18),IF(AND(D18>=0,D18<=1),D18,D18/100),IF(AND(ISNUMBER(E18),E18>0,D18>=0),D18/E18,"")))) | M18: =IF(ISBLANK(K18),"",IF(NOT(ISNUMBER(K18)),"",IF(ISBLANK(L18),IF(AND(K18>=0,K18<=1),K18,K18/100),IF(AND(ISNUMBER(L18),L18>0,K18>=0),K18/L18,"")))) | T18: =IF(ISBLANK(R18),"",IF(NOT(ISNUMBER(R18)),"",IF(ISBLANK(S18),IF(AND(R18>=0,R18<=1),R18,R18/100),IF(AND(ISNUMBER(S18),S18>0,R18>=0),R18/S18,"")))) | AA18: =IF(ISBLANK(Y18),"",IF(NOT(ISNUMBER(Y18)),"",IF(ISBLANK(Z18),IF(AND(Y18>=0,Y18<=1),Y18,Y18/100),IF(AND(ISNUMBER(Z18),Z18>0,Y18>=0),Y18/Z18,"")))) | AH18: =IF(ISBLANK(AF18),"",IF(NOT(ISNUMBER(AF18)),"",IF(ISBLANK(AG18),IF(AND(AF18>=0,AF18<=1),AF18,AF18/100),IF(AND(ISNUMBER(AG18),AG18>0,AF18>=0),AF18/AG18,"")))) | AO18: =IF(ISBLANK(AM18),"",IF(NOT(ISNUMBER(AM18)),"",IF(ISBLANK(AN18),IF(AND(AM18>=0,AM18<=1),AM18,AM18/100),IF(AND(ISNUMBER(AN18),AN18>0,AM18>=0),AM18/AN18,""))))

Sheet Class 4
AZ1: =IF(ISNUMBER($AR$7),$AR$7,"")
B2: COURSE CODE | AZ2: =IF(ISTEXT($AV$7),$AV$7,"")
B3: Course Grade Calculator
B5: =B12 -> CATEGORY 1 | H5: + | I5: =I12 -> CATEGORY 2 | O5: + | P5: =P12 -> CATEGORY 3 | V5: + | W5: =W12 -> CATEGORY 4 | AC5: + | AD5: =AD12 -> CATEGORY 5 | AJ5: + | AK5: =AK12 -> CATEGORY 6 | AQ5: = | AR5: CURRENT GRADE
B6: =IF(COUNTA(D15:D1000)=0,"",IF(F13="Equal",IF(AND(COUNTA(D15:D1000)=COUNT(D15:D1000),COUNTIFS(D15:D1000,"<0")=0,COUNT(F15:F1000)=COUNT(D15:D1000)),AVERAGE(F15:F1000),""),IF(F13="By Points",IF(AND(COUNTA(D15:D1000)=COUNT(D15:D1000),COUNT(D15:D1000)=COUNTIFS(D15:D1000,"<>",E15:E1000,">0"),COUNT(F15:F1000)=COUNT(D15:D1000)),SUM(D15:D1000)/SUMIF(D15:D1000,"<>",E15:E1000),""),IF(F13="Custom",IF(AND(COUNTA(D15:D1000)=COUNT(D15:D1000),COUNT(D15:D1000)=COUNTIFS(D15:D1000,"<>",G15:G1000,">0"),COUNT(F15:F1000)=COUNT(D15:D1000)),SUMPRODUCT(F15:F1000,G15:G1000)/SUMIF(D15:D1000,"<>",G15:G1000),""),"")))) | E6: × | F6: =IF(ISBLANK(D13),"",D13) | I6: =IF(COUNTA(K15:K1000)=0,"",IF(M13="Equal",IF(AND(COUNTA(K15:K1000)=COUNT(K15:K1000),COUNTIFS(K15:K1000,"<0")=0,COUNT(M15:M1000)=COUNT(K15:K1000)),AVERAGE(M15:M1000),""),IF(M13="By Points",IF(AND(COUNTA(K15:K1000)=COUNT(K15:K1000),COUNT(K15:K1000)=COUNTIFS(K15:K1000,"<>",L15:L1000,">0"),COUNT(M15:M1000)=COUNT(K15:K1000)),SUM(K15:K1000)/SUMIF(K15:K1000,"<>",L15:L1000),""),IF(M13="Custom",IF(AND(COUNTA(K15:K1000)=COUNT(K15:K1000),COUNT(K15:K1000)=COUNTIFS(K15:K1000,"<>",N15:N1000,">0"),COUNT(M15:M1000)=COUNT(K15:K1000)),SUMPRODUCT(M15:M1000,N15:N1000)/SUMIF(K15:K1000,"<>",N15:N1000),""),"")))) | L6: × | M6: =IF(ISBLANK(K13),"",K13) | P6: =IF(COUNTA(R15:R1000)=0,"",IF(T13="Equal",IF(AND(COUNTA(R15:R1000)=COUNT(R15:R1000),COUNTIFS(R15:R1000,"<0")=0,COUNT(T15:T1000)=COUNT(R15:R1000)),AVERAGE(T15:T1000),""),IF(T13="By Points",IF(AND(COUNTA(R15:R1000)=COUNT(R15:R1000),COUNT(R15:R1000)=COUNTIFS(R15:R1000,"<>",S15:S1000,">0"),COUNT(T15:T1000)=COUNT(R15:R1000)),SUM(R15:R1000)/SUMIF(R15:R1000,"<>",S15:S1000),""),IF(T13="Custom",IF(AND(COUNTA(R15:R1000)=COUNT(R15:R1000),COUNT(R15:R1000)=COUNTIFS(R15:R1000,"<>",U15:U1000,">0"),COUNT(T15:T1000)=COUNT(R15:R1000)),SUMPRODUCT(T15:T1000,U15:U1000)/SUMIF(R15:R1000,"<>",U15:U1000),""),"")))) | S6: × | T6: =IF(ISBLANK(R13),"",R13) | W6: =IF(COUNTA(Y15:Y1000)=0,"",IF(AA13="Equal",IF(AND(COUNTA(Y15:Y1000)=COUNT(Y15:Y1000),COUNTIFS(Y15:Y1000,"<0")=0,COUNT(AA15:AA1000)=COUNT(Y15:Y1000)),AVERAGE(AA15:AA1000),""),IF(AA13="By Points",IF(AND(COUNTA(Y15:Y1000)=COUNT(Y15:Y1000),COUNT(Y15:Y1000)=COUNTIFS(Y15:Y1000,"<>",Z15:Z1000,">0"),COUNT(AA15:AA1000)=COUNT(Y15:Y1000)),SUM(Y15:Y1000)/SUMIF(Y15:Y1000,"<>",Z15:Z1000),""),IF(AA13="Custom",IF(AND(COUNTA(Y15:Y1000)=COUNT(Y15:Y1000),COUNT(Y15:Y1000)=COUNTIFS(Y15:Y1000,"<>",AB15:AB1000,">0"),COUNT(AA15:AA1000)=COUNT(Y15:Y1000)),SUMPRODUCT(AA15:AA1000,AB15:AB1000)/SUMIF(Y15:Y1000,"<>",AB15:AB1000),""),"")))) | Z6: × | AA6: =IF(ISBLANK(Y13),"",Y13) | AD6: =IF(COUNTA(AF15:AF1000)=0,"",IF(AH13="Equal",IF(AND(COUNTA(AF15:AF1000)=COUNT(AF15:AF1000),COUNTIFS(AF15:AF1000,"<0")=0,COUNT(AH15:AH1000)=COUNT(AF15:AF1000)),AVERAGE(AH15:AH1000),""),IF(AH13="By Points",IF(AND(COUNTA(AF15:AF1000)=COUNT(AF15:AF1000),COUNT(AF15:AF1000)=COUNTIFS(AF15:AF1000,"<>",AG15:AG1000,">0"),COUNT(AH15:AH1000)=COUNT(AF15:AF1000)),SUM(AF15:AF1000)/SUMIF(AF15:AF1000,"<>",AG15:AG1000),""),IF(AH13="Custom",IF(AND(COUNTA(AF15:AF1000)=COUNT(AF15:AF1000),COUNT(AF15:AF1000)=COUNTIFS(AF15:AF1000,"<>",AI15:AI1000,">0"),COUNT(AH15:AH1000)=COUNT(AF15:AF1000)),SUMPRODUCT(AH15:AH1000,AI15:AI1000)/SUMIF(AF15:AF1000,"<>",AI15:AI1000),""),"")))) | AG6: × | AH6: =IF(ISBLANK(AF13),"",AF13) | AK6: =IF(COUNTA(AM15:AM1000)=0,"",IF(AO13="Equal",IF(AND(COUNTA(AM15:AM1000)=COUNT(AM15:AM1000),COUNTIFS(AM15:AM1000,"<0")=0,COUNT(AO15:AO1000)=COUNT(AM15:AM1000)),AVERAGE(AO15:AO1000),""),IF(AO13="By Points",IF(AND(COUNTA(AM15:AM1000)=COUNT(AM15:AM1000),COUNT(AM15:AM1000)=COUNTIFS(AM15:AM1000,"<>",AN15:AN1000,">0"),COUNT(AO15:AO1000)=COUNT(AM15:AM1000)),SUM(AM15:AM1000)/SUMIF(AM15:AM1000,"<>",AN15:AN1000),""),IF(AO13="Custom",IF(AND(COUNTA(AM15:AM1000)=COUNT(AM15:AM1000),COUNT(AM15:AM1000)=COUNTIFS(AM15:AM1000,"<>",AP15:AP1000,">0"),COUNT(AO15:AO1000)=COUNT(AM15:AM1000)),SUMPRODUCT(AO15:AO1000,AP15:AP1000)/SUMIF(AM15:AM1000,"<>",AP15:AP1000),""),"")))) | AN6: × | AO6: =IF(ISBLANK(AM13),"",AM13) | AR6: ACTIVE WEIGHT | AU6: =SUM(IF(ISNUMBER(B7),D13,0),IF(ISNUMBER(I7),K13,0),IF(ISNUMBER(P7),R13,0),IF(ISNUMBER(W7),Y13,0),IF(ISNUMBER(AD7),AF13,0),IF(ISNUMBER(AK7),AM13,0)) -> 0
B7: =IF(AND(ISBLANK(D13),COUNTA(D15:D1000)=0),"AVAILABLE",IF(OR(NOT(ISNUMBER(D13)),D13<=0,D13>1),"ENTER WEIGHT",IF(COUNTA(D15:D1000)=0,"NO GRADES",IF(NOT(ISNUMBER(B6)),"CHECK INPUTS",B6*D13)))) -> AVAILABLE | I7: =IF(AND(ISBLANK(K13),COUNTA(K15:K1000)=0),"AVAILABLE",IF(OR(NOT(ISNUMBER(K13)),K13<=0,K13>1),"ENTER WEIGHT",IF(COUNTA(K15:K1000)=0,"NO GRADES",IF(NOT(ISNUMBER(I6)),"CHECK INPUTS",I6*K13)))) -> AVAILABLE | P7: =IF(AND(ISBLANK(R13),COUNTA(R15:R1000)=0),"AVAILABLE",IF(OR(NOT(ISNUMBER(R13)),R13<=0,R13>1),"ENTER WEIGHT",IF(COUNTA(R15:R1000)=0,"NO GRADES",IF(NOT(ISNUMBER(P6)),"CHECK INPUTS",P6*R13)))) -> AVAILABLE | W7: =IF(AND(ISBLANK(Y13),COUNTA(Y15:Y1000)=0),"AVAILABLE",IF(OR(NOT(ISNUMBER(Y13)),Y13<=0,Y13>1),"ENTER WEIGHT",IF(COUNTA(Y15:Y1000)=0,"NO GRADES",IF(NOT(ISNUMBER(W6)),"CHECK INPUTS",W6*Y13)))) -> AVAILABLE | AD7: =IF(AND(ISBLANK(AF13),COUNTA(AF15:AF1000)=0),"AVAILABLE",IF(OR(NOT(ISNUMBER(AF13)),AF13<=0,AF13>1),"ENTER WEIGHT",IF(COUNTA(AF15:AF1000)=0,"NO GRADES",IF(NOT(ISNUMBER(AD6)),"CHECK INPUTS",AD6*AF13)))) -> AVAILABLE | AK7: =IF(AND(ISBLANK(AM13),COUNTA(AM15:AM1000)=0),"AVAILABLE",IF(OR(NOT(ISNUMBER(AM13)),AM13<=0,AM13>1),"ENTER WEIGHT",IF(COUNTA(AM15:AM1000)=0,"NO GRADES",IF(NOT(ISNUMBER(AK6)),"CHECK INPUTS",AK6*AM13)))) -> AVAILABLE | AR7: =IF(COUNTA(D13,K13,R13,Y13,AF13,AM13)=0,"ENTER WEIGHTS",IF(OR(AND(NOT(ISBLANK(D13)),OR(NOT(ISNUMBER(D13)),D13<=0,D13>1)),AND(NOT(ISBLANK(K13)),OR(NOT(ISNUMBER(K13)),K13<=0,K13>1)),AND(NOT(ISBLANK(R13)),OR(NOT(ISNUMBER(R13)),R13<=0,R13>1)),AND(NOT(ISBLANK(Y13)),OR(NOT(ISNUMBER(Y13)),Y13<=0,Y13>1)),AND(NOT(ISBLANK(AF13)),OR(NOT(ISNUMBER(AF13)),AF13<=0,AF13>1)),AND(NOT(ISBLANK(AM13)),OR(NOT(ISNUMBER(AM13)),AM13<=0,AM13>1))),"CHECK WEIGHTS",IF(OR(B7="ENTER WEIGHT",I7="ENTER WEIGHT",P7="ENTER WEIGHT",W7="ENTER WEIGHT",AD7="ENTER WEIGHT",AK7="ENTER WEIGHT"),"ENTER WEIGHTS",IF(ABS(SUM(D13,K13,R13,Y13,AF13,AM13)-1)>0.000001,"CHECK WEIGHTS",IF(OR(B7="CHECK INPUTS",I7="CHECK INPUTS",P7="CHECK INPUTS",W7="CHECK INPUTS",AD7="CHECK INPUTS",AK7="CHECK INPUTS"),"CHECK INPUTS",IF(SUM(IF(ISNUMBER(B7),D13,0),IF(ISNUMBER(I7),K13,0),IF(ISNUMBER(P7),R13,0),IF(ISNUMBER(W7),Y13,0),IF(ISNUMBER(AD7),AF13,0),IF(ISNUMBER(AK7),AM13,0))=0,"ENTER GRADES",SUM(B7,I7,P7,W7,AD7,AK7)/SUM(IF(ISNUMBER(B7),D13,0),IF(ISNUMBER(I7),K13,0),IF(ISNUMBER(P7),R13,0),IF(ISNUMBER(W7),Y13,0),IF(ISNUMBER(AD7),AF13,0),IF(ISNUMBER(AK7),AM13,0)))))))) -> ENTER WEIGHTS | AV7: =IF(NOT(ISNUMBER(AR7)),"",IF(COUNT(E9,G9,J9,L9)<4,"",IF(NOT(AND(E9>=0,E9<=100,G9>=0,G9<=100,J9>=0,J9<=100,L9>=0,L9<=100,E9>G9,G9>J9,J9>L9)),"CHECK TARGETS",IF(AR7*100>=E9,"A",IF(AR7*100>=G9,"B",IF(AR7*100>=J9,"C",IF(AR7*100>=L9,"D","F")))))))
B9: GRADE TARGETS | D9: A ≥ | F9: B ≥ | H9: C ≥ | K9: D ≥ | M9: F below D
B10: Enter weights as %. Leave Out Of blank for % scores; enter points otherwise. Custom uses Item Wt. Blank scores are ignored; 0 counts.
B12: CATEGORY 1 | I12: CATEGORY 2 | P12: CATEGORY 3 | W12: CATEGORY 4 | AD12: CATEGORY 5 | AK12: CATEGORY 6
B13: Course Weight | E13: Method | F13: Equal | I13: Course Weight | L13: Method | M13: Equal | P13: Course Weight | S13: Method | T13: Equal | W13: Course Weight | Z13: Method | AA13: Equal | AD13: Course Weight | AG13: Method | AH13: Equal | AK13: Course Weight | AN13: Method | AO13: Equal
B14: Assessment | C14: Due | D14: Earned | E14: Out Of | F14: Grade % (auto) | G14: Item Wt. | I14: Assessment | J14: Due | K14: Earned | L14: Out Of | M14: Grade % (auto) | N14: Item Wt. | P14: Assessment | Q14: Due | R14: Earned | S14: Out Of | T14: Grade % (auto) | U14: Item Wt. | W14: Assessment | X14: Due | Y14: Earned | Z14: Out Of | AA14: Grade % (auto) | AB14: Item Wt. | AD14: Assessment | AE14: Due | AF14: Earned | AG14: Out Of | AH14: Grade % (auto) | AI14: Item Wt. | AK14: Assessment | AL14: Due | AM14: Earned | AN14: Out Of | AO14: Grade % (auto) | AP14: Item Wt.
F15: =IF(ISBLANK(D15),"",IF(NOT(ISNUMBER(D15)),"",IF(ISBLANK(E15),IF(AND(D15>=0,D15<=1),D15,D15/100),IF(AND(ISNUMBER(E15),E15>0,D15>=0),D15/E15,"")))) | M15: =IF(ISBLANK(K15),"",IF(NOT(ISNUMBER(K15)),"",IF(ISBLANK(L15),IF(AND(K15>=0,K15<=1),K15,K15/100),IF(AND(ISNUMBER(L15),L15>0,K15>=0),K15/L15,"")))) | T15: =IF(ISBLANK(R15),"",IF(NOT(ISNUMBER(R15)),"",IF(ISBLANK(S15),IF(AND(R15>=0,R15<=1),R15,R15/100),IF(AND(ISNUMBER(S15),S15>0,R15>=0),R15/S15,"")))) | AA15: =IF(ISBLANK(Y15),"",IF(NOT(ISNUMBER(Y15)),"",IF(ISBLANK(Z15),IF(AND(Y15>=0,Y15<=1),Y15,Y15/100),IF(AND(ISNUMBER(Z15),Z15>0,Y15>=0),Y15/Z15,"")))) | AH15: =IF(ISBLANK(AF15),"",IF(NOT(ISNUMBER(AF15)),"",IF(ISBLANK(AG15),IF(AND(AF15>=0,AF15<=1),AF15,AF15/100),IF(AND(ISNUMBER(AG15),AG15>0,AF15>=0),AF15/AG15,"")))) | AO15: =IF(ISBLANK(AM15),"",IF(NOT(ISNUMBER(AM15)),"",IF(ISBLANK(AN15),IF(AND(AM15>=0,AM15<=1),AM15,AM15/100),IF(AND(ISNUMBER(AN15),AN15>0,AM15>=0),AM15/AN15,""))))
F16: =IF(ISBLANK(D16),"",IF(NOT(ISNUMBER(D16)),"",IF(ISBLANK(E16),IF(AND(D16>=0,D16<=1),D16,D16/100),IF(AND(ISNUMBER(E16),E16>0,D16>=0),D16/E16,"")))) | M16: =IF(ISBLANK(K16),"",IF(NOT(ISNUMBER(K16)),"",IF(ISBLANK(L16),IF(AND(K16>=0,K16<=1),K16,K16/100),IF(AND(ISNUMBER(L16),L16>0,K16>=0),K16/L16,"")))) | T16: =IF(ISBLANK(R16),"",IF(NOT(ISNUMBER(R16)),"",IF(ISBLANK(S16),IF(AND(R16>=0,R16<=1),R16,R16/100),IF(AND(ISNUMBER(S16),S16>0,R16>=0),R16/S16,"")))) | AA16: =IF(ISBLANK(Y16),"",IF(NOT(ISNUMBER(Y16)),"",IF(ISBLANK(Z16),IF(AND(Y16>=0,Y16<=1),Y16,Y16/100),IF(AND(ISNUMBER(Z16),Z16>0,Y16>=0),Y16/Z16,"")))) | AH16: =IF(ISBLANK(AF16),"",IF(NOT(ISNUMBER(AF16)),"",IF(ISBLANK(AG16),IF(AND(AF16>=0,AF16<=1),AF16,AF16/100),IF(AND(ISNUMBER(AG16),AG16>0,AF16>=0),AF16/AG16,"")))) | AO16: =IF(ISBLANK(AM16),"",IF(NOT(ISNUMBER(AM16)),"",IF(ISBLANK(AN16),IF(AND(AM16>=0,AM16<=1),AM16,AM16/100),IF(AND(ISNUMBER(AN16),AN16>0,AM16>=0),AM16/AN16,""))))
F17: =IF(ISBLANK(D17),"",IF(NOT(ISNUMBER(D17)),"",IF(ISBLANK(E17),IF(AND(D17>=0,D17<=1),D17,D17/100),IF(AND(ISNUMBER(E17),E17>0,D17>=0),D17/E17,"")))) | M17: =IF(ISBLANK(K17),"",IF(NOT(ISNUMBER(K17)),"",IF(ISBLANK(L17),IF(AND(K17>=0,K17<=1),K17,K17/100),IF(AND(ISNUMBER(L17),L17>0,K17>=0),K17/L17,"")))) | T17: =IF(ISBLANK(R17),"",IF(NOT(ISNUMBER(R17)),"",IF(ISBLANK(S17),IF(AND(R17>=0,R17<=1),R17,R17/100),IF(AND(ISNUMBER(S17),S17>0,R17>=0),R17/S17,"")))) | AA17: =IF(ISBLANK(Y17),"",IF(NOT(ISNUMBER(Y17)),"",IF(ISBLANK(Z17),IF(AND(Y17>=0,Y17<=1),Y17,Y17/100),IF(AND(ISNUMBER(Z17),Z17>0,Y17>=0),Y17/Z17,"")))) | AH17: =IF(ISBLANK(AF17),"",IF(NOT(ISNUMBER(AF17)),"",IF(ISBLANK(AG17),IF(AND(AF17>=0,AF17<=1),AF17,AF17/100),IF(AND(ISNUMBER(AG17),AG17>0,AF17>=0),AF17/AG17,"")))) | AO17: =IF(ISBLANK(AM17),"",IF(NOT(ISNUMBER(AM17)),"",IF(ISBLANK(AN17),IF(AND(AM17>=0,AM17<=1),AM17,AM17/100),IF(AND(ISNUMBER(AN17),AN17>0,AM17>=0),AM17/AN17,""))))
F18: =IF(ISBLANK(D18),"",IF(NOT(ISNUMBER(D18)),"",IF(ISBLANK(E18),IF(AND(D18>=0,D18<=1),D18,D18/100),IF(AND(ISNUMBER(E18),E18>0,D18>=0),D18/E18,"")))) | M18: =IF(ISBLANK(K18),"",IF(NOT(ISNUMBER(K18)),"",IF(ISBLANK(L18),IF(AND(K18>=0,K18<=1),K18,K18/100),IF(AND(ISNUMBER(L18),L18>0,K18>=0),K18/L18,"")))) | T18: =IF(ISBLANK(R18),"",IF(NOT(ISNUMBER(R18)),"",IF(ISBLANK(S18),IF(AND(R18>=0,R18<=1),R18,R18/100),IF(AND(ISNUMBER(S18),S18>0,R18>=0),R18/S18,"")))) | AA18: =IF(ISBLANK(Y18),"",IF(NOT(ISNUMBER(Y18)),"",IF(ISBLANK(Z18),IF(AND(Y18>=0,Y18<=1),Y18,Y18/100),IF(AND(ISNUMBER(Z18),Z18>0,Y18>=0),Y18/Z18,"")))) | AH18: =IF(ISBLANK(AF18),"",IF(NOT(ISNUMBER(AF18)),"",IF(ISBLANK(AG18),IF(AND(AF18>=0,AF18<=1),AF18,AF18/100),IF(AND(ISNUMBER(AG18),AG18>0,AF18>=0),AF18/AG18,"")))) | AO18: =IF(ISBLANK(AM18),"",IF(NOT(ISNUMBER(AM18)),"",IF(ISBLANK(AN18),IF(AND(AM18>=0,AM18<=1),AM18,AM18/100),IF(AND(ISNUMBER(AN18),AN18>0,AM18>=0),AM18/AN18,""))))

Sheet Class 5
AZ1: =IF(ISNUMBER($AR$7),$AR$7,"")
B2: COURSE CODE | AZ2: =IF(ISTEXT($AV$7),$AV$7,"")
B3: Course Grade Calculator
B5: =B12 -> CATEGORY 1 | H5: + | I5: =I12 -> CATEGORY 2 | O5: + | P5: =P12 -> CATEGORY 3 | V5: + | W5: =W12 -> CATEGORY 4 | AC5: + | AD5: =AD12 -> CATEGORY 5 | AJ5: + | AK5: =AK12 -> CATEGORY 6 | AQ5: = | AR5: CURRENT GRADE
B6: =IF(COUNTA(D15:D1000)=0,"",IF(F13="Equal",IF(AND(COUNTA(D15:D1000)=COUNT(D15:D1000),COUNTIFS(D15:D1000,"<0")=0,COUNT(F15:F1000)=COUNT(D15:D1000)),AVERAGE(F15:F1000),""),IF(F13="By Points",IF(AND(COUNTA(D15:D1000)=COUNT(D15:D1000),COUNT(D15:D1000)=COUNTIFS(D15:D1000,"<>",E15:E1000,">0"),COUNT(F15:F1000)=COUNT(D15:D1000)),SUM(D15:D1000)/SUMIF(D15:D1000,"<>",E15:E1000),""),IF(F13="Custom",IF(AND(COUNTA(D15:D1000)=COUNT(D15:D1000),COUNT(D15:D1000)=COUNTIFS(D15:D1000,"<>",G15:G1000,">0"),COUNT(F15:F1000)=COUNT(D15:D1000)),SUMPRODUCT(F15:F1000,G15:G1000)/SUMIF(D15:D1000,"<>",G15:G1000),""),"")))) | E6: × | F6: =IF(ISBLANK(D13),"",D13) | I6: =IF(COUNTA(K15:K1000)=0,"",IF(M13="Equal",IF(AND(COUNTA(K15:K1000)=COUNT(K15:K1000),COUNTIFS(K15:K1000,"<0")=0,COUNT(M15:M1000)=COUNT(K15:K1000)),AVERAGE(M15:M1000),""),IF(M13="By Points",IF(AND(COUNTA(K15:K1000)=COUNT(K15:K1000),COUNT(K15:K1000)=COUNTIFS(K15:K1000,"<>",L15:L1000,">0"),COUNT(M15:M1000)=COUNT(K15:K1000)),SUM(K15:K1000)/SUMIF(K15:K1000,"<>",L15:L1000),""),IF(M13="Custom",IF(AND(COUNTA(K15:K1000)=COUNT(K15:K1000),COUNT(K15:K1000)=COUNTIFS(K15:K1000,"<>",N15:N1000,">0"),COUNT(M15:M1000)=COUNT(K15:K1000)),SUMPRODUCT(M15:M1000,N15:N1000)/SUMIF(K15:K1000,"<>",N15:N1000),""),"")))) | L6: × | M6: =IF(ISBLANK(K13),"",K13) | P6: =IF(COUNTA(R15:R1000)=0,"",IF(T13="Equal",IF(AND(COUNTA(R15:R1000)=COUNT(R15:R1000),COUNTIFS(R15:R1000,"<0")=0,COUNT(T15:T1000)=COUNT(R15:R1000)),AVERAGE(T15:T1000),""),IF(T13="By Points",IF(AND(COUNTA(R15:R1000)=COUNT(R15:R1000),COUNT(R15:R1000)=COUNTIFS(R15:R1000,"<>",S15:S1000,">0"),COUNT(T15:T1000)=COUNT(R15:R1000)),SUM(R15:R1000)/SUMIF(R15:R1000,"<>",S15:S1000),""),IF(T13="Custom",IF(AND(COUNTA(R15:R1000)=COUNT(R15:R1000),COUNT(R15:R1000)=COUNTIFS(R15:R1000,"<>",U15:U1000,">0"),COUNT(T15:T1000)=COUNT(R15:R1000)),SUMPRODUCT(T15:T1000,U15:U1000)/SUMIF(R15:R1000,"<>",U15:U1000),""),"")))) | S6: × | T6: =IF(ISBLANK(R13),"",R13) | W6: =IF(COUNTA(Y15:Y1000)=0,"",IF(AA13="Equal",IF(AND(COUNTA(Y15:Y1000)=COUNT(Y15:Y1000),COUNTIFS(Y15:Y1000,"<0")=0,COUNT(AA15:AA1000)=COUNT(Y15:Y1000)),AVERAGE(AA15:AA1000),""),IF(AA13="By Points",IF(AND(COUNTA(Y15:Y1000)=COUNT(Y15:Y1000),COUNT(Y15:Y1000)=COUNTIFS(Y15:Y1000,"<>",Z15:Z1000,">0"),COUNT(AA15:AA1000)=COUNT(Y15:Y1000)),SUM(Y15:Y1000)/SUMIF(Y15:Y1000,"<>",Z15:Z1000),""),IF(AA13="Custom",IF(AND(COUNTA(Y15:Y1000)=COUNT(Y15:Y1000),COUNT(Y15:Y1000)=COUNTIFS(Y15:Y1000,"<>",AB15:AB1000,">0"),COUNT(AA15:AA1000)=COUNT(Y15:Y1000)),SUMPRODUCT(AA15:AA1000,AB15:AB1000)/SUMIF(Y15:Y1000,"<>",AB15:AB1000),""),"")))) | Z6: × | AA6: =IF(ISBLANK(Y13),"",Y13) | AD6: =IF(COUNTA(AF15:AF1000)=0,"",IF(AH13="Equal",IF(AND(COUNTA(AF15:AF1000)=COUNT(AF15:AF1000),COUNTIFS(AF15:AF1000,"<0")=0,COUNT(AH15:AH1000)=COUNT(AF15:AF1000)),AVERAGE(AH15:AH1000),""),IF(AH13="By Points",IF(AND(COUNTA(AF15:AF1000)=COUNT(AF15:AF1000),COUNT(AF15:AF1000)=COUNTIFS(AF15:AF1000,"<>",AG15:AG1000,">0"),COUNT(AH15:AH1000)=COUNT(AF15:AF1000)),SUM(AF15:AF1000)/SUMIF(AF15:AF1000,"<>",AG15:AG1000),""),IF(AH13="Custom",IF(AND(COUNTA(AF15:AF1000)=COUNT(AF15:AF1000),COUNT(AF15:AF1000)=COUNTIFS(AF15:AF1000,"<>",AI15:AI1000,">0"),COUNT(AH15:AH1000)=COUNT(AF15:AF1000)),SUMPRODUCT(AH15:AH1000,AI15:AI1000)/SUMIF(AF15:AF1000,"<>",AI15:AI1000),""),"")))) | AG6: × | AH6: =IF(ISBLANK(AF13),"",AF13) | AK6: =IF(COUNTA(AM15:AM1000)=0,"",IF(AO13="Equal",IF(AND(COUNTA(AM15:AM1000)=COUNT(AM15:AM1000),COUNTIFS(AM15:AM1000,"<0")=0,COUNT(AO15:AO1000)=COUNT(AM15:AM1000)),AVERAGE(AO15:AO1000),""),IF(AO13="By Points",IF(AND(COUNTA(AM15:AM1000)=COUNT(AM15:AM1000),COUNT(AM15:AM1000)=COUNTIFS(AM15:AM1000,"<>",AN15:AN1000,">0"),COUNT(AO15:AO1000)=COUNT(AM15:AM1000)),SUM(AM15:AM1000)/SUMIF(AM15:AM1000,"<>",AN15:AN1000),""),IF(AO13="Custom",IF(AND(COUNTA(AM15:AM1000)=COUNT(AM15:AM1000),COUNT(AM15:AM1000)=COUNTIFS(AM15:AM1000,"<>",AP15:AP1000,">0"),COUNT(AO15:AO1000)=COUNT(AM15:AM1000)),SUMPRODUCT(AO15:AO1000,AP15:AP1000)/SUMIF(AM15:AM1000,"<>",AP15:AP1000),""),"")))) | AN6: × | AO6: =IF(ISBLANK(AM13),"",AM13) | AR6: ACTIVE WEIGHT | AU6: =SUM(IF(ISNUMBER(B7),D13,0),IF(ISNUMBER(I7),K13,0),IF(ISNUMBER(P7),R13,0),IF(ISNUMBER(W7),Y13,0),IF(ISNUMBER(AD7),AF13,0),IF(ISNUMBER(AK7),AM13,0)) -> 0
B7: =IF(AND(ISBLANK(D13),COUNTA(D15:D1000)=0),"AVAILABLE",IF(OR(NOT(ISNUMBER(D13)),D13<=0,D13>1),"ENTER WEIGHT",IF(COUNTA(D15:D1000)=0,"NO GRADES",IF(NOT(ISNUMBER(B6)),"CHECK INPUTS",B6*D13)))) -> AVAILABLE | I7: =IF(AND(ISBLANK(K13),COUNTA(K15:K1000)=0),"AVAILABLE",IF(OR(NOT(ISNUMBER(K13)),K13<=0,K13>1),"ENTER WEIGHT",IF(COUNTA(K15:K1000)=0,"NO GRADES",IF(NOT(ISNUMBER(I6)),"CHECK INPUTS",I6*K13)))) -> AVAILABLE | P7: =IF(AND(ISBLANK(R13),COUNTA(R15:R1000)=0),"AVAILABLE",IF(OR(NOT(ISNUMBER(R13)),R13<=0,R13>1),"ENTER WEIGHT",IF(COUNTA(R15:R1000)=0,"NO GRADES",IF(NOT(ISNUMBER(P6)),"CHECK INPUTS",P6*R13)))) -> AVAILABLE | W7: =IF(AND(ISBLANK(Y13),COUNTA(Y15:Y1000)=0),"AVAILABLE",IF(OR(NOT(ISNUMBER(Y13)),Y13<=0,Y13>1),"ENTER WEIGHT",IF(COUNTA(Y15:Y1000)=0,"NO GRADES",IF(NOT(ISNUMBER(W6)),"CHECK INPUTS",W6*Y13)))) -> AVAILABLE | AD7: =IF(AND(ISBLANK(AF13),COUNTA(AF15:AF1000)=0),"AVAILABLE",IF(OR(NOT(ISNUMBER(AF13)),AF13<=0,AF13>1),"ENTER WEIGHT",IF(COUNTA(AF15:AF1000)=0,"NO GRADES",IF(NOT(ISNUMBER(AD6)),"CHECK INPUTS",AD6*AF13)))) -> AVAILABLE | AK7: =IF(AND(ISBLANK(AM13),COUNTA(AM15:AM1000)=0),"AVAILABLE",IF(OR(NOT(ISNUMBER(AM13)),AM13<=0,AM13>1),"ENTER WEIGHT",IF(COUNTA(AM15:AM1000)=0,"NO GRADES",IF(NOT(ISNUMBER(AK6)),"CHECK INPUTS",AK6*AM13)))) -> AVAILABLE | AR7: =IF(COUNTA(D13,K13,R13,Y13,AF13,AM13)=0,"ENTER WEIGHTS",IF(OR(AND(NOT(ISBLANK(D13)),OR(NOT(ISNUMBER(D13)),D13<=0,D13>1)),AND(NOT(ISBLANK(K13)),OR(NOT(ISNUMBER(K13)),K13<=0,K13>1)),AND(NOT(ISBLANK(R13)),OR(NOT(ISNUMBER(R13)),R13<=0,R13>1)),AND(NOT(ISBLANK(Y13)),OR(NOT(ISNUMBER(Y13)),Y13<=0,Y13>1)),AND(NOT(ISBLANK(AF13)),OR(NOT(ISNUMBER(AF13)),AF13<=0,AF13>1)),AND(NOT(ISBLANK(AM13)),OR(NOT(ISNUMBER(AM13)),AM13<=0,AM13>1))),"CHECK WEIGHTS",IF(OR(B7="ENTER WEIGHT",I7="ENTER WEIGHT",P7="ENTER WEIGHT",W7="ENTER WEIGHT",AD7="ENTER WEIGHT",AK7="ENTER WEIGHT"),"ENTER WEIGHTS",IF(ABS(SUM(D13,K13,R13,Y13,AF13,AM13)-1)>0.000001,"CHECK WEIGHTS",IF(OR(B7="CHECK INPUTS",I7="CHECK INPUTS",P7="CHECK INPUTS",W7="CHECK INPUTS",AD7="CHECK INPUTS",AK7="CHECK INPUTS"),"CHECK INPUTS",IF(SUM(IF(ISNUMBER(B7),D13,0),IF(ISNUMBER(I7),K13,0),IF(ISNUMBER(P7),R13,0),IF(ISNUMBER(W7),Y13,0),IF(ISNUMBER(AD7),AF13,0),IF(ISNUMBER(AK7),AM13,0))=0,"ENTER GRADES",SUM(B7,I7,P7,W7,AD7,AK7)/SUM(IF(ISNUMBER(B7),D13,0),IF(ISNUMBER(I7),K13,0),IF(ISNUMBER(P7),R13,0),IF(ISNUMBER(W7),Y13,0),IF(ISNUMBER(AD7),AF13,0),IF(ISNUMBER(AK7),AM13,0)))))))) -> ENTER WEIGHTS | AV7: =IF(NOT(ISNUMBER(AR7)),"",IF(COUNT(E9,G9,J9,L9)<4,"",IF(NOT(AND(E9>=0,E9<=100,G9>=0,G9<=100,J9>=0,J9<=100,L9>=0,L9<=100,E9>G9,G9>J9,J9>L9)),"CHECK TARGETS",IF(AR7*100>=E9,"A",IF(AR7*100>=G9,"B",IF(AR7*100>=J9,"C",IF(AR7*100>=L9,"D","F")))))))
B9: GRADE TARGETS | D9: A ≥ | F9: B ≥ | H9: C ≥ | K9: D ≥ | M9: F below D
B10: Enter weights as %. Leave Out Of blank for % scores; enter points otherwise. Custom uses Item Wt. Blank scores are ignored; 0 counts.
B12: CATEGORY 1 | I12: CATEGORY 2 | P12: CATEGORY 3 | W12: CATEGORY 4 | AD12: CATEGORY 5 | AK12: CATEGORY 6
B13: Course Weight | E13: Method | F13: Equal | I13: Course Weight | L13: Method | M13: Equal | P13: Course Weight | S13: Method | T13: Equal | W13: Course Weight | Z13: Method | AA13: Equal | AD13: Course Weight | AG13: Method | AH13: Equal | AK13: Course Weight | AN13: Method | AO13: Equal
B14: Assessment | C14: Due | D14: Earned | E14: Out Of | F14: Grade % (auto) | G14: Item Wt. | I14: Assessment | J14: Due | K14: Earned | L14: Out Of | M14: Grade % (auto) | N14: Item Wt. | P14: Assessment | Q14: Due | R14: Earned | S14: Out Of | T14: Grade % (auto) | U14: Item Wt. | W14: Assessment | X14: Due | Y14: Earned | Z14: Out Of | AA14: Grade % (auto) | AB14: Item Wt. | AD14: Assessment | AE14: Due | AF14: Earned | AG14: Out Of | AH14: Grade % (auto) | AI14: Item Wt. | AK14: Assessment | AL14: Due | AM14: Earned | AN14: Out Of | AO14: Grade % (auto) | AP14: Item Wt.
F15: =IF(ISBLANK(D15),"",IF(NOT(ISNUMBER(D15)),"",IF(ISBLANK(E15),IF(AND(D15>=0,D15<=1),D15,D15/100),IF(AND(ISNUMBER(E15),E15>0,D15>=0),D15/E15,"")))) | M15: =IF(ISBLANK(K15),"",IF(NOT(ISNUMBER(K15)),"",IF(ISBLANK(L15),IF(AND(K15>=0,K15<=1),K15,K15/100),IF(AND(ISNUMBER(L15),L15>0,K15>=0),K15/L15,"")))) | T15: =IF(ISBLANK(R15),"",IF(NOT(ISNUMBER(R15)),"",IF(ISBLANK(S15),IF(AND(R15>=0,R15<=1),R15,R15/100),IF(AND(ISNUMBER(S15),S15>0,R15>=0),R15/S15,"")))) | AA15: =IF(ISBLANK(Y15),"",IF(NOT(ISNUMBER(Y15)),"",IF(ISBLANK(Z15),IF(AND(Y15>=0,Y15<=1),Y15,Y15/100),IF(AND(ISNUMBER(Z15),Z15>0,Y15>=0),Y15/Z15,"")))) | AH15: =IF(ISBLANK(AF15),"",IF(NOT(ISNUMBER(AF15)),"",IF(ISBLANK(AG15),IF(AND(AF15>=0,AF15<=1),AF15,AF15/100),IF(AND(ISNUMBER(AG15),AG15>0,AF15>=0),AF15/AG15,"")))) | AO15: =IF(ISBLANK(AM15),"",IF(NOT(ISNUMBER(AM15)),"",IF(ISBLANK(AN15),IF(AND(AM15>=0,AM15<=1),AM15,AM15/100),IF(AND(ISNUMBER(AN15),AN15>0,AM15>=0),AM15/AN15,""))))
F16: =IF(ISBLANK(D16),"",IF(NOT(ISNUMBER(D16)),"",IF(ISBLANK(E16),IF(AND(D16>=0,D16<=1),D16,D16/100),IF(AND(ISNUMBER(E16),E16>0,D16>=0),D16/E16,"")))) | M16: =IF(ISBLANK(K16),"",IF(NOT(ISNUMBER(K16)),"",IF(ISBLANK(L16),IF(AND(K16>=0,K16<=1),K16,K16/100),IF(AND(ISNUMBER(L16),L16>0,K16>=0),K16/L16,"")))) | T16: =IF(ISBLANK(R16),"",IF(NOT(ISNUMBER(R16)),"",IF(ISBLANK(S16),IF(AND(R16>=0,R16<=1),R16,R16/100),IF(AND(ISNUMBER(S16),S16>0,R16>=0),R16/S16,"")))) | AA16: =IF(ISBLANK(Y16),"",IF(NOT(ISNUMBER(Y16)),"",IF(ISBLANK(Z16),IF(AND(Y16>=0,Y16<=1),Y16,Y16/100),IF(AND(ISNUMBER(Z16),Z16>0,Y16>=0),Y16/Z16,"")))) | AH16: =IF(ISBLANK(AF16),"",IF(NOT(ISNUMBER(AF16)),"",IF(ISBLANK(AG16),IF(AND(AF16>=0,AF16<=1),AF16,AF16/100),IF(AND(ISNUMBER(AG16),AG16>0,AF16>=0),AF16/AG16,"")))) | AO16: =IF(ISBLANK(AM16),"",IF(NOT(ISNUMBER(AM16)),"",IF(ISBLANK(AN16),IF(AND(AM16>=0,AM16<=1),AM16,AM16/100),IF(AND(ISNUMBER(AN16),AN16>0,AM16>=0),AM16/AN16,""))))
F17: =IF(ISBLANK(D17),"",IF(NOT(ISNUMBER(D17)),"",IF(ISBLANK(E17),IF(AND(D17>=0,D17<=1),D17,D17/100),IF(AND(ISNUMBER(E17),E17>0,D17>=0),D17/E17,"")))) | M17: =IF(ISBLANK(K17),"",IF(NOT(ISNUMBER(K17)),"",IF(ISBLANK(L17),IF(AND(K17>=0,K17<=1),K17,K17/100),IF(AND(ISNUMBER(L17),L17>0,K17>=0),K17/L17,"")))) | T17: =IF(ISBLANK(R17),"",IF(NOT(ISNUMBER(R17)),"",IF(ISBLANK(S17),IF(AND(R17>=0,R17<=1),R17,R17/100),IF(AND(ISNUMBER(S17),S17>0,R17>=0),R17/S17,"")))) | AA17: =IF(ISBLANK(Y17),"",IF(NOT(ISNUMBER(Y17)),"",IF(ISBLANK(Z17),IF(AND(Y17>=0,Y17<=1),Y17,Y17/100),IF(AND(ISNUMBER(Z17),Z17>0,Y17>=0),Y17/Z17,"")))) | AH17: =IF(ISBLANK(AF17),"",IF(NOT(ISNUMBER(AF17)),"",IF(ISBLANK(AG17),IF(AND(AF17>=0,AF17<=1),AF17,AF17/100),IF(AND(ISNUMBER(AG17),AG17>0,AF17>=0),AF17/AG17,"")))) | AO17: =IF(ISBLANK(AM17),"",IF(NOT(ISNUMBER(AM17)),"",IF(ISBLANK(AN17),IF(AND(AM17>=0,AM17<=1),AM17,AM17/100),IF(AND(ISNUMBER(AN17),AN17>0,AM17>=0),AM17/AN17,""))))
F18: =IF(ISBLANK(D18),"",IF(NOT(ISNUMBER(D18)),"",IF(ISBLANK(E18),IF(AND(D18>=0,D18<=1),D18,D18/100),IF(AND(ISNUMBER(E18),E18>0,D18>=0),D18/E18,"")))) | M18: =IF(ISBLANK(K18),"",IF(NOT(ISNUMBER(K18)),"",IF(ISBLANK(L18),IF(AND(K18>=0,K18<=1),K18,K18/100),IF(AND(ISNUMBER(L18),L18>0,K18>=0),K18/L18,"")))) | T18: =IF(ISBLANK(R18),"",IF(NOT(ISNUMBER(R18)),"",IF(ISBLANK(S18),IF(AND(R18>=0,R18<=1),R18,R18/100),IF(AND(ISNUMBER(S18),S18>0,R18>=0),R18/S18,"")))) | AA18: =IF(ISBLANK(Y18),"",IF(NOT(ISNUMBER(Y18)),"",IF(ISBLANK(Z18),IF(AND(Y18>=0,Y18<=1),Y18,Y18/100),IF(AND(ISNUMBER(Z18),Z18>0,Y18>=0),Y18/Z18,"")))) | AH18: =IF(ISBLANK(AF18),"",IF(NOT(ISNUMBER(AF18)),"",IF(ISBLANK(AG18),IF(AND(AF18>=0,AF18<=1),AF18,AF18/100),IF(AND(ISNUMBER(AG18),AG18>0,AF18>=0),AF18/AG18,"")))) | AO18: =IF(ISBLANK(AM18),"",IF(NOT(ISNUMBER(AM18)),"",IF(ISBLANK(AN18),IF(AND(AM18>=0,AM18<=1),AM18,AM18/100),IF(AND(ISNUMBER(AN18),AN18>0,AM18>=0),AM18/AN18,""))))

Sheet Class 6
AZ1: =IF(ISNUMBER($AR$7),$AR$7,"")
B2: COURSE CODE | AZ2: =IF(ISTEXT($AV$7),$AV$7,"")
B3: Course Grade Calculator
B5: =B12 -> CATEGORY 1 | H5: + | I5: =I12 -> CATEGORY 2 | O5: + | P5: =P12 -> CATEGORY 3 | V5: + | W5: =W12 -> CATEGORY 4 | AC5: + | AD5: =AD12 -> CATEGORY 5 | AJ5: + | AK5: =AK12 -> CATEGORY 6 | AQ5: = | AR5: CURRENT GRADE
B6: =IF(COUNTA(D15:D1000)=0,"",IF(F13="Equal",IF(AND(COUNTA(D15:D1000)=COUNT(D15:D1000),COUNTIFS(D15:D1000,"<0")=0,COUNT(F15:F1000)=COUNT(D15:D1000)),AVERAGE(F15:F1000),""),IF(F13="By Points",IF(AND(COUNTA(D15:D1000)=COUNT(D15:D1000),COUNT(D15:D1000)=COUNTIFS(D15:D1000,"<>",E15:E1000,">0"),COUNT(F15:F1000)=COUNT(D15:D1000)),SUM(D15:D1000)/SUMIF(D15:D1000,"<>",E15:E1000),""),IF(F13="Custom",IF(AND(COUNTA(D15:D1000)=COUNT(D15:D1000),COUNT(D15:D1000)=COUNTIFS(D15:D1000,"<>",G15:G1000,">0"),COUNT(F15:F1000)=COUNT(D15:D1000)),SUMPRODUCT(F15:F1000,G15:G1000)/SUMIF(D15:D1000,"<>",G15:G1000),""),"")))) | E6: × | F6: =IF(ISBLANK(D13),"",D13) | I6: =IF(COUNTA(K15:K1000)=0,"",IF(M13="Equal",IF(AND(COUNTA(K15:K1000)=COUNT(K15:K1000),COUNTIFS(K15:K1000,"<0")=0,COUNT(M15:M1000)=COUNT(K15:K1000)),AVERAGE(M15:M1000),""),IF(M13="By Points",IF(AND(COUNTA(K15:K1000)=COUNT(K15:K1000),COUNT(K15:K1000)=COUNTIFS(K15:K1000,"<>",L15:L1000,">0"),COUNT(M15:M1000)=COUNT(K15:K1000)),SUM(K15:K1000)/SUMIF(K15:K1000,"<>",L15:L1000),""),IF(M13="Custom",IF(AND(COUNTA(K15:K1000)=COUNT(K15:K1000),COUNT(K15:K1000)=COUNTIFS(K15:K1000,"<>",N15:N1000,">0"),COUNT(M15:M1000)=COUNT(K15:K1000)),SUMPRODUCT(M15:M1000,N15:N1000)/SUMIF(K15:K1000,"<>",N15:N1000),""),"")))) | L6: × | M6: =IF(ISBLANK(K13),"",K13) | P6: =IF(COUNTA(R15:R1000)=0,"",IF(T13="Equal",IF(AND(COUNTA(R15:R1000)=COUNT(R15:R1000),COUNTIFS(R15:R1000,"<0")=0,COUNT(T15:T1000)=COUNT(R15:R1000)),AVERAGE(T15:T1000),""),IF(T13="By Points",IF(AND(COUNTA(R15:R1000)=COUNT(R15:R1000),COUNT(R15:R1000)=COUNTIFS(R15:R1000,"<>",S15:S1000,">0"),COUNT(T15:T1000)=COUNT(R15:R1000)),SUM(R15:R1000)/SUMIF(R15:R1000,"<>",S15:S1000),""),IF(T13="Custom",IF(AND(COUNTA(R15:R1000)=COUNT(R15:R1000),COUNT(R15:R1000)=COUNTIFS(R15:R1000,"<>",U15:U1000,">0"),COUNT(T15:T1000)=COUNT(R15:R1000)),SUMPRODUCT(T15:T1000,U15:U1000)/SUMIF(R15:R1000,"<>",U15:U1000),""),"")))) | S6: × | T6: =IF(ISBLANK(R13),"",R13) | W6: =IF(COUNTA(Y15:Y1000)=0,"",IF(AA13="Equal",IF(AND(COUNTA(Y15:Y1000)=COUNT(Y15:Y1000),COUNTIFS(Y15:Y1000,"<0")=0,COUNT(AA15:AA1000)=COUNT(Y15:Y1000)),AVERAGE(AA15:AA1000),""),IF(AA13="By Points",IF(AND(COUNTA(Y15:Y1000)=COUNT(Y15:Y1000),COUNT(Y15:Y1000)=COUNTIFS(Y15:Y1000,"<>",Z15:Z1000,">0"),COUNT(AA15:AA1000)=COUNT(Y15:Y1000)),SUM(Y15:Y1000)/SUMIF(Y15:Y1000,"<>",Z15:Z1000),""),IF(AA13="Custom",IF(AND(COUNTA(Y15:Y1000)=COUNT(Y15:Y1000),COUNT(Y15:Y1000)=COUNTIFS(Y15:Y1000,"<>",AB15:AB1000,">0"),COUNT(AA15:AA1000)=COUNT(Y15:Y1000)),SUMPRODUCT(AA15:AA1000,AB15:AB1000)/SUMIF(Y15:Y1000,"<>",AB15:AB1000),""),"")))) | Z6: × | AA6: =IF(ISBLANK(Y13),"",Y13) | AD6: =IF(COUNTA(AF15:AF1000)=0,"",IF(AH13="Equal",IF(AND(COUNTA(AF15:AF1000)=COUNT(AF15:AF1000),COUNTIFS(AF15:AF1000,"<0")=0,COUNT(AH15:AH1000)=COUNT(AF15:AF1000)),AVERAGE(AH15:AH1000),""),IF(AH13="By Points",IF(AND(COUNTA(AF15:AF1000)=COUNT(AF15:AF1000),COUNT(AF15:AF1000)=COUNTIFS(AF15:AF1000,"<>",AG15:AG1000,">0"),COUNT(AH15:AH1000)=COUNT(AF15:AF1000)),SUM(AF15:AF1000)/SUMIF(AF15:AF1000,"<>",AG15:AG1000),""),IF(AH13="Custom",IF(AND(COUNTA(AF15:AF1000)=COUNT(AF15:AF1000),COUNT(AF15:AF1000)=COUNTIFS(AF15:AF1000,"<>",AI15:AI1000,">0"),COUNT(AH15:AH1000)=COUNT(AF15:AF1000)),SUMPRODUCT(AH15:AH1000,AI15:AI1000)/SUMIF(AF15:AF1000,"<>",AI15:AI1000),""),"")))) | AG6: × | AH6: =IF(ISBLANK(AF13),"",AF13) | AK6: =IF(COUNTA(AM15:AM1000)=0,"",IF(AO13="Equal",IF(AND(COUNTA(AM15:AM1000)=COUNT(AM15:AM1000),COUNTIFS(AM15:AM1000,"<0")=0,COUNT(AO15:AO1000)=COUNT(AM15:AM1000)),AVERAGE(AO15:AO1000),""),IF(AO13="By Points",IF(AND(COUNTA(AM15:AM1000)=COUNT(AM15:AM1000),COUNT(AM15:AM1000)=COUNTIFS(AM15:AM1000,"<>",AN15:AN1000,">0"),COUNT(AO15:AO1000)=COUNT(AM15:AM1000)),SUM(AM15:AM1000)/SUMIF(AM15:AM1000,"<>",AN15:AN1000),""),IF(AO13="Custom",IF(AND(COUNTA(AM15:AM1000)=COUNT(AM15:AM1000),COUNT(AM15:AM1000)=COUNTIFS(AM15:AM1000,"<>",AP15:AP1000,">0"),COUNT(AO15:AO1000)=COUNT(AM15:AM1000)),SUMPRODUCT(AO15:AO1000,AP15:AP1000)/SUMIF(AM15:AM1000,"<>",AP15:AP1000),""),"")))) | AN6: × | AO6: =IF(ISBLANK(AM13),"",AM13) | AR6: ACTIVE WEIGHT | AU6: =SUM(IF(ISNUMBER(B7),D13,0),IF(ISNUMBER(I7),K13,0),IF(ISNUMBER(P7),R13,0),IF(ISNUMBER(W7),Y13,0),IF(ISNUMBER(AD7),AF13,0),IF(ISNUMBER(AK7),AM13,0)) -> 0
B7: =IF(AND(ISBLANK(D13),COUNTA(D15:D1000)=0),"AVAILABLE",IF(OR(NOT(ISNUMBER(D13)),D13<=0,D13>1),"ENTER WEIGHT",IF(COUNTA(D15:D1000)=0,"NO GRADES",IF(NOT(ISNUMBER(B6)),"CHECK INPUTS",B6*D13)))) -> AVAILABLE | I7: =IF(AND(ISBLANK(K13),COUNTA(K15:K1000)=0),"AVAILABLE",IF(OR(NOT(ISNUMBER(K13)),K13<=0,K13>1),"ENTER WEIGHT",IF(COUNTA(K15:K1000)=0,"NO GRADES",IF(NOT(ISNUMBER(I6)),"CHECK INPUTS",I6*K13)))) -> AVAILABLE | P7: =IF(AND(ISBLANK(R13),COUNTA(R15:R1000)=0),"AVAILABLE",IF(OR(NOT(ISNUMBER(R13)),R13<=0,R13>1),"ENTER WEIGHT",IF(COUNTA(R15:R1000)=0,"NO GRADES",IF(NOT(ISNUMBER(P6)),"CHECK INPUTS",P6*R13)))) -> AVAILABLE | W7: =IF(AND(ISBLANK(Y13),COUNTA(Y15:Y1000)=0),"AVAILABLE",IF(OR(NOT(ISNUMBER(Y13)),Y13<=0,Y13>1),"ENTER WEIGHT",IF(COUNTA(Y15:Y1000)=0,"NO GRADES",IF(NOT(ISNUMBER(W6)),"CHECK INPUTS",W6*Y13)))) -> AVAILABLE | AD7: =IF(AND(ISBLANK(AF13),COUNTA(AF15:AF1000)=0),"AVAILABLE",IF(OR(NOT(ISNUMBER(AF13)),AF13<=0,AF13>1),"ENTER WEIGHT",IF(COUNTA(AF15:AF1000)=0,"NO GRADES",IF(NOT(ISNUMBER(AD6)),"CHECK INPUTS",AD6*AF13)))) -> AVAILABLE | AK7: =IF(AND(ISBLANK(AM13),COUNTA(AM15:AM1000)=0),"AVAILABLE",IF(OR(NOT(ISNUMBER(AM13)),AM13<=0,AM13>1),"ENTER WEIGHT",IF(COUNTA(AM15:AM1000)=0,"NO GRADES",IF(NOT(ISNUMBER(AK6)),"CHECK INPUTS",AK6*AM13)))) -> AVAILABLE | AR7: =IF(COUNTA(D13,K13,R13,Y13,AF13,AM13)=0,"ENTER WEIGHTS",IF(OR(AND(NOT(ISBLANK(D13)),OR(NOT(ISNUMBER(D13)),D13<=0,D13>1)),AND(NOT(ISBLANK(K13)),OR(NOT(ISNUMBER(K13)),K13<=0,K13>1)),AND(NOT(ISBLANK(R13)),OR(NOT(ISNUMBER(R13)),R13<=0,R13>1)),AND(NOT(ISBLANK(Y13)),OR(NOT(ISNUMBER(Y13)),Y13<=0,Y13>1)),AND(NOT(ISBLANK(AF13)),OR(NOT(ISNUMBER(AF13)),AF13<=0,AF13>1)),AND(NOT(ISBLANK(AM13)),OR(NOT(ISNUMBER(AM13)),AM13<=0,AM13>1))),"CHECK WEIGHTS",IF(OR(B7="ENTER WEIGHT",I7="ENTER WEIGHT",P7="ENTER WEIGHT",W7="ENTER WEIGHT",AD7="ENTER WEIGHT",AK7="ENTER WEIGHT"),"ENTER WEIGHTS",IF(ABS(SUM(D13,K13,R13,Y13,AF13,AM13)-1)>0.000001,"CHECK WEIGHTS",IF(OR(B7="CHECK INPUTS",I7="CHECK INPUTS",P7="CHECK INPUTS",W7="CHECK INPUTS",AD7="CHECK INPUTS",AK7="CHECK INPUTS"),"CHECK INPUTS",IF(SUM(IF(ISNUMBER(B7),D13,0),IF(ISNUMBER(I7),K13,0),IF(ISNUMBER(P7),R13,0),IF(ISNUMBER(W7),Y13,0),IF(ISNUMBER(AD7),AF13,0),IF(ISNUMBER(AK7),AM13,0))=0,"ENTER GRADES",SUM(B7,I7,P7,W7,AD7,AK7)/SUM(IF(ISNUMBER(B7),D13,0),IF(ISNUMBER(I7),K13,0),IF(ISNUMBER(P7),R13,0),IF(ISNUMBER(W7),Y13,0),IF(ISNUMBER(AD7),AF13,0),IF(ISNUMBER(AK7),AM13,0)))))))) -> ENTER WEIGHTS | AV7: =IF(NOT(ISNUMBER(AR7)),"",IF(COUNT(E9,G9,J9,L9)<4,"",IF(NOT(AND(E9>=0,E9<=100,G9>=0,G9<=100,J9>=0,J9<=100,L9>=0,L9<=100,E9>G9,G9>J9,J9>L9)),"CHECK TARGETS",IF(AR7*100>=E9,"A",IF(AR7*100>=G9,"B",IF(AR7*100>=J9,"C",IF(AR7*100>=L9,"D","F")))))))
B9: GRADE TARGETS | D9: A ≥ | F9: B ≥ | H9: C ≥ | K9: D ≥ | M9: F below D
B10: Enter weights as %. Leave Out Of blank for % scores; enter points otherwise. Custom uses Item Wt. Blank scores are ignored; 0 counts.
B12: CATEGORY 1 | I12: CATEGORY 2 | P12: CATEGORY 3 | W12: CATEGORY 4 | AD12: CATEGORY 5 | AK12: CATEGORY 6
B13: Course Weight | E13: Method | F13: Equal | I13: Course Weight | L13: Method | M13: Equal | P13: Course Weight | S13: Method | T13: Equal | W13: Course Weight | Z13: Method | AA13: Equal | AD13: Course Weight | AG13: Method | AH13: Equal | AK13: Course Weight | AN13: Method | AO13: Equal
B14: Assessment | C14: Due | D14: Earned | E14: Out Of | F14: Grade % (auto) | G14: Item Wt. | I14: Assessment | J14: Due | K14: Earned | L14: Out Of | M14: Grade % (auto) | N14: Item Wt. | P14: Assessment | Q14: Due | R14: Earned | S14: Out Of | T14: Grade % (auto) | U14: Item Wt. | W14: Assessment | X14: Due | Y14: Earned | Z14: Out Of | AA14: Grade % (auto) | AB14: Item Wt. | AD14: Assessment | AE14: Due | AF14: Earned | AG14: Out Of | AH14: Grade % (auto) | AI14: Item Wt. | AK14: Assessment | AL14: Due | AM14: Earned | AN14: Out Of | AO14: Grade % (auto) | AP14: Item Wt.
F15: =IF(ISBLANK(D15),"",IF(NOT(ISNUMBER(D15)),"",IF(ISBLANK(E15),IF(AND(D15>=0,D15<=1),D15,D15/100),IF(AND(ISNUMBER(E15),E15>0,D15>=0),D15/E15,"")))) | M15: =IF(ISBLANK(K15),"",IF(NOT(ISNUMBER(K15)),"",IF(ISBLANK(L15),IF(AND(K15>=0,K15<=1),K15,K15/100),IF(AND(ISNUMBER(L15),L15>0,K15>=0),K15/L15,"")))) | T15: =IF(ISBLANK(R15),"",IF(NOT(ISNUMBER(R15)),"",IF(ISBLANK(S15),IF(AND(R15>=0,R15<=1),R15,R15/100),IF(AND(ISNUMBER(S15),S15>0,R15>=0),R15/S15,"")))) | AA15: =IF(ISBLANK(Y15),"",IF(NOT(ISNUMBER(Y15)),"",IF(ISBLANK(Z15),IF(AND(Y15>=0,Y15<=1),Y15,Y15/100),IF(AND(ISNUMBER(Z15),Z15>0,Y15>=0),Y15/Z15,"")))) | AH15: =IF(ISBLANK(AF15),"",IF(NOT(ISNUMBER(AF15)),"",IF(ISBLANK(AG15),IF(AND(AF15>=0,AF15<=1),AF15,AF15/100),IF(AND(ISNUMBER(AG15),AG15>0,AF15>=0),AF15/AG15,"")))) | AO15: =IF(ISBLANK(AM15),"",IF(NOT(ISNUMBER(AM15)),"",IF(ISBLANK(AN15),IF(AND(AM15>=0,AM15<=1),AM15,AM15/100),IF(AND(ISNUMBER(AN15),AN15>0,AM15>=0),AM15/AN15,""))))
F16: =IF(ISBLANK(D16),"",IF(NOT(ISNUMBER(D16)),"",IF(ISBLANK(E16),IF(AND(D16>=0,D16<=1),D16,D16/100),IF(AND(ISNUMBER(E16),E16>0,D16>=0),D16/E16,"")))) | M16: =IF(ISBLANK(K16),"",IF(NOT(ISNUMBER(K16)),"",IF(ISBLANK(L16),IF(AND(K16>=0,K16<=1),K16,K16/100),IF(AND(ISNUMBER(L16),L16>0,K16>=0),K16/L16,"")))) | T16: =IF(ISBLANK(R16),"",IF(NOT(ISNUMBER(R16)),"",IF(ISBLANK(S16),IF(AND(R16>=0,R16<=1),R16,R16/100),IF(AND(ISNUMBER(S16),S16>0,R16>=0),R16/S16,"")))) | AA16: =IF(ISBLANK(Y16),"",IF(NOT(ISNUMBER(Y16)),"",IF(ISBLANK(Z16),IF(AND(Y16>=0,Y16<=1),Y16,Y16/100),IF(AND(ISNUMBER(Z16),Z16>0,Y16>=0),Y16/Z16,"")))) | AH16: =IF(ISBLANK(AF16),"",IF(NOT(ISNUMBER(AF16)),"",IF(ISBLANK(AG16),IF(AND(AF16>=0,AF16<=1),AF16,AF16/100),IF(AND(ISNUMBER(AG16),AG16>0,AF16>=0),AF16/AG16,"")))) | AO16: =IF(ISBLANK(AM16),"",IF(NOT(ISNUMBER(AM16)),"",IF(ISBLANK(AN16),IF(AND(AM16>=0,AM16<=1),AM16,AM16/100),IF(AND(ISNUMBER(AN16),AN16>0,AM16>=0),AM16/AN16,""))))
F17: =IF(ISBLANK(D17),"",IF(NOT(ISNUMBER(D17)),"",IF(ISBLANK(E17),IF(AND(D17>=0,D17<=1),D17,D17/100),IF(AND(ISNUMBER(E17),E17>0,D17>=0),D17/E17,"")))) | M17: =IF(ISBLANK(K17),"",IF(NOT(ISNUMBER(K17)),"",IF(ISBLANK(L17),IF(AND(K17>=0,K17<=1),K17,K17/100),IF(AND(ISNUMBER(L17),L17>0,K17>=0),K17/L17,"")))) | T17: =IF(ISBLANK(R17),"",IF(NOT(ISNUMBER(R17)),"",IF(ISBLANK(S17),IF(AND(R17>=0,R17<=1),R17,R17/100),IF(AND(ISNUMBER(S17),S17>0,R17>=0),R17/S17,"")))) | AA17: =IF(ISBLANK(Y17),"",IF(NOT(ISNUMBER(Y17)),"",IF(ISBLANK(Z17),IF(AND(Y17>=0,Y17<=1),Y17,Y17/100),IF(AND(ISNUMBER(Z17),Z17>0,Y17>=0),Y17/Z17,"")))) | AH17: =IF(ISBLANK(AF17),"",IF(NOT(ISNUMBER(AF17)),"",IF(ISBLANK(AG17),IF(AND(AF17>=0,AF17<=1),AF17,AF17/100),IF(AND(ISNUMBER(AG17),AG17>0,AF17>=0),AF17/AG17,"")))) | AO17: =IF(ISBLANK(AM17),"",IF(NOT(ISNUMBER(AM17)),"",IF(ISBLANK(AN17),IF(AND(AM17>=0,AM17<=1),AM17,AM17/100),IF(AND(ISNUMBER(AN17),AN17>0,AM17>=0),AM17/AN17,""))))
F18: =IF(ISBLANK(D18),"",IF(NOT(ISNUMBER(D18)),"",IF(ISBLANK(E18),IF(AND(D18>=0,D18<=1),D18,D18/100),IF(AND(ISNUMBER(E18),E18>0,D18>=0),D18/E18,"")))) | M18: =IF(ISBLANK(K18),"",IF(NOT(ISNUMBER(K18)),"",IF(ISBLANK(L18),IF(AND(K18>=0,K18<=1),K18,K18/100),IF(AND(ISNUMBER(L18),L18>0,K18>=0),K18/L18,"")))) | T18: =IF(ISBLANK(R18),"",IF(NOT(ISNUMBER(R18)),"",IF(ISBLANK(S18),IF(AND(R18>=0,R18<=1),R18,R18/100),IF(AND(ISNUMBER(S18),S18>0,R18>=0),R18/S18,"")))) | AA18: =IF(ISBLANK(Y18),"",IF(NOT(ISNUMBER(Y18)),"",IF(ISBLANK(Z18),IF(AND(Y18>=0,Y18<=1),Y18,Y18/100),IF(AND(ISNUMBER(Z18),Z18>0,Y18>=0),Y18/Z18,"")))) | AH18: =IF(ISBLANK(AF18),"",IF(NOT(ISNUMBER(AF18)),"",IF(ISBLANK(AG18),IF(AND(AF18>=0,AF18<=1),AF18,AF18/100),IF(AND(ISNUMBER(AG18),AG18>0,AF18>=0),AF18/AG18,"")))) | AO18: =IF(ISBLANK(AM18),"",IF(NOT(ISNUMBER(AM18)),"",IF(ISBLANK(AN18),IF(AND(AM18>=0,AM18<=1),AM18,AM18/100),IF(AND(ISNUMBER(AN18),AN18>0,AM18>=0),AM18/AN18,""))))

Sheet Class 7
AZ1: =IF(ISNUMBER($AR$7),$AR$7,"")
B2: COURSE CODE | AZ2: =IF(ISTEXT($AV$7),$AV$7,"")
B3: Course Grade Calculator
B5: =B12 -> CATEGORY 1 | H5: + | I5: =I12 -> CATEGORY 2 | O5: + | P5: =P12 -> CATEGORY 3 | V5: + | W5: =W12 -> CATEGORY 4 | AC5: + | AD5: =AD12 -> CATEGORY 5 | AJ5: + | AK5: =AK12 -> CATEGORY 6 | AQ5: = | AR5: CURRENT GRADE
B6: =IF(COUNTA(D15:D1000)=0,"",IF(F13="Equal",IF(AND(COUNTA(D15:D1000)=COUNT(D15:D1000),COUNTIFS(D15:D1000,"<0")=0,COUNT(F15:F1000)=COUNT(D15:D1000)),AVERAGE(F15:F1000),""),IF(F13="By Points",IF(AND(COUNTA(D15:D1000)=COUNT(D15:D1000),COUNT(D15:D1000)=COUNTIFS(D15:D1000,"<>",E15:E1000,">0"),COUNT(F15:F1000)=COUNT(D15:D1000)),SUM(D15:D1000)/SUMIF(D15:D1000,"<>",E15:E1000),""),IF(F13="Custom",IF(AND(COUNTA(D15:D1000)=COUNT(D15:D1000),COUNT(D15:D1000)=COUNTIFS(D15:D1000,"<>",G15:G1000,">0"),COUNT(F15:F1000)=COUNT(D15:D1000)),SUMPRODUCT(F15:F1000,G15:G1000)/SUMIF(D15:D1000,"<>",G15:G1000),""),"")))) | E6: × | F6: =IF(ISBLANK(D13),"",D13) | I6: =IF(COUNTA(K15:K1000)=0,"",IF(M13="Equal",IF(AND(COUNTA(K15:K1000)=COUNT(K15:K1000),COUNTIFS(K15:K1000,"<0")=0,COUNT(M15:M1000)=COUNT(K15:K1000)),AVERAGE(M15:M1000),""),IF(M13="By Points",IF(AND(COUNTA(K15:K1000)=COUNT(K15:K1000),COUNT(K15:K1000)=COUNTIFS(K15:K1000,"<>",L15:L1000,">0"),COUNT(M15:M1000)=COUNT(K15:K1000)),SUM(K15:K1000)/SUMIF(K15:K1000,"<>",L15:L1000),""),IF(M13="Custom",IF(AND(COUNTA(K15:K1000)=COUNT(K15:K1000),COUNT(K15:K1000)=COUNTIFS(K15:K1000,"<>",N15:N1000,">0"),COUNT(M15:M1000)=COUNT(K15:K1000)),SUMPRODUCT(M15:M1000,N15:N1000)/SUMIF(K15:K1000,"<>",N15:N1000),""),"")))) | L6: × | M6: =IF(ISBLANK(K13),"",K13) | P6: =IF(COUNTA(R15:R1000)=0,"",IF(T13="Equal",IF(AND(COUNTA(R15:R1000)=COUNT(R15:R1000),COUNTIFS(R15:R1000,"<0")=0,COUNT(T15:T1000)=COUNT(R15:R1000)),AVERAGE(T15:T1000),""),IF(T13="By Points",IF(AND(COUNTA(R15:R1000)=COUNT(R15:R1000),COUNT(R15:R1000)=COUNTIFS(R15:R1000,"<>",S15:S1000,">0"),COUNT(T15:T1000)=COUNT(R15:R1000)),SUM(R15:R1000)/SUMIF(R15:R1000,"<>",S15:S1000),""),IF(T13="Custom",IF(AND(COUNTA(R15:R1000)=COUNT(R15:R1000),COUNT(R15:R1000)=COUNTIFS(R15:R1000,"<>",U15:U1000,">0"),COUNT(T15:T1000)=COUNT(R15:R1000)),SUMPRODUCT(T15:T1000,U15:U1000)/SUMIF(R15:R1000,"<>",U15:U1000),""),"")))) | S6: × | T6: =IF(ISBLANK(R13),"",R13) | W6: =IF(COUNTA(Y15:Y1000)=0,"",IF(AA13="Equal",IF(AND(COUNTA(Y15:Y1000)=COUNT(Y15:Y1000),COUNTIFS(Y15:Y1000,"<0")=0,COUNT(AA15:AA1000)=COUNT(Y15:Y1000)),AVERAGE(AA15:AA1000),""),IF(AA13="By Points",IF(AND(COUNTA(Y15:Y1000)=COUNT(Y15:Y1000),COUNT(Y15:Y1000)=COUNTIFS(Y15:Y1000,"<>",Z15:Z1000,">0"),COUNT(AA15:AA1000)=COUNT(Y15:Y1000)),SUM(Y15:Y1000)/SUMIF(Y15:Y1000,"<>",Z15:Z1000),""),IF(AA13="Custom",IF(AND(COUNTA(Y15:Y1000)=COUNT(Y15:Y1000),COUNT(Y15:Y1000)=COUNTIFS(Y15:Y1000,"<>",AB15:AB1000,">0"),COUNT(AA15:AA1000)=COUNT(Y15:Y1000)),SUMPRODUCT(AA15:AA1000,AB15:AB1000)/SUMIF(Y15:Y1000,"<>",AB15:AB1000),""),"")))) | Z6: × | AA6: =IF(ISBLANK(Y13),"",Y13) | AD6: =IF(COUNTA(AF15:AF1000)=0,"",IF(AH13="Equal",IF(AND(COUNTA(AF15:AF1000)=COUNT(AF15:AF1000),COUNTIFS(AF15:AF1000,"<0")=0,COUNT(AH15:AH1000)=COUNT(AF15:AF1000)),AVERAGE(AH15:AH1000),""),IF(AH13="By Points",IF(AND(COUNTA(AF15:AF1000)=COUNT(AF15:AF1000),COUNT(AF15:AF1000)=COUNTIFS(AF15:AF1000,"<>",AG15:AG1000,">0"),COUNT(AH15:AH1000)=COUNT(AF15:AF1000)),SUM(AF15:AF1000)/SUMIF(AF15:AF1000,"<>",AG15:AG1000),""),IF(AH13="Custom",IF(AND(COUNTA(AF15:AF1000)=COUNT(AF15:AF1000),COUNT(AF15:AF1000)=COUNTIFS(AF15:AF1000,"<>",AI15:AI1000,">0"),COUNT(AH15:AH1000)=COUNT(AF15:AF1000)),SUMPRODUCT(AH15:AH1000,AI15:AI1000)/SUMIF(AF15:AF1000,"<>",AI15:AI1000),""),"")))) | AG6: × | AH6: =IF(ISBLANK(AF13),"",AF13) | AK6: =IF(COUNTA(AM15:AM1000)=0,"",IF(AO13="Equal",IF(AND(COUNTA(AM15:AM1000)=COUNT(AM15:AM1000),COUNTIFS(AM15:AM1000,"<0")=0,COUNT(AO15:AO1000)=COUNT(AM15:AM1000)),AVERAGE(AO15:AO1000),""),IF(AO13="By Points",IF(AND(COUNTA(AM15:AM1000)=COUNT(AM15:AM1000),COUNT(AM15:AM1000)=COUNTIFS(AM15:AM1000,"<>",AN15:AN1000,">0"),COUNT(AO15:AO1000)=COUNT(AM15:AM1000)),SUM(AM15:AM1000)/SUMIF(AM15:AM1000,"<>",AN15:AN1000),""),IF(AO13="Custom",IF(AND(COUNTA(AM15:AM1000)=COUNT(AM15:AM1000),COUNT(AM15:AM1000)=COUNTIFS(AM15:AM1000,"<>",AP15:AP1000,">0"),COUNT(AO15:AO1000)=COUNT(AM15:AM1000)),SUMPRODUCT(AO15:AO1000,AP15:AP1000)/SUMIF(AM15:AM1000,"<>",AP15:AP1000),""),"")))) | AN6: × | AO6: =IF(ISBLANK(AM13),"",AM13) | AR6: ACTIVE WEIGHT | AU6: =SUM(IF(ISNUMBER(B7),D13,0),IF(ISNUMBER(I7),K13,0),IF(ISNUMBER(P7),R13,0),IF(ISNUMBER(W7),Y13,0),IF(ISNUMBER(AD7),AF13,0),IF(ISNUMBER(AK7),AM13,0)) -> 0
B7: =IF(AND(ISBLANK(D13),COUNTA(D15:D1000)=0),"AVAILABLE",IF(OR(NOT(ISNUMBER(D13)),D13<=0,D13>1),"ENTER WEIGHT",IF(COUNTA(D15:D1000)=0,"NO GRADES",IF(NOT(ISNUMBER(B6)),"CHECK INPUTS",B6*D13)))) -> AVAILABLE | I7: =IF(AND(ISBLANK(K13),COUNTA(K15:K1000)=0),"AVAILABLE",IF(OR(NOT(ISNUMBER(K13)),K13<=0,K13>1),"ENTER WEIGHT",IF(COUNTA(K15:K1000)=0,"NO GRADES",IF(NOT(ISNUMBER(I6)),"CHECK INPUTS",I6*K13)))) -> AVAILABLE | P7: =IF(AND(ISBLANK(R13),COUNTA(R15:R1000)=0),"AVAILABLE",IF(OR(NOT(ISNUMBER(R13)),R13<=0,R13>1),"ENTER WEIGHT",IF(COUNTA(R15:R1000)=0,"NO GRADES",IF(NOT(ISNUMBER(P6)),"CHECK INPUTS",P6*R13)))) -> AVAILABLE | W7: =IF(AND(ISBLANK(Y13),COUNTA(Y15:Y1000)=0),"AVAILABLE",IF(OR(NOT(ISNUMBER(Y13)),Y13<=0,Y13>1),"ENTER WEIGHT",IF(COUNTA(Y15:Y1000)=0,"NO GRADES",IF(NOT(ISNUMBER(W6)),"CHECK INPUTS",W6*Y13)))) -> AVAILABLE | AD7: =IF(AND(ISBLANK(AF13),COUNTA(AF15:AF1000)=0),"AVAILABLE",IF(OR(NOT(ISNUMBER(AF13)),AF13<=0,AF13>1),"ENTER WEIGHT",IF(COUNTA(AF15:AF1000)=0,"NO GRADES",IF(NOT(ISNUMBER(AD6)),"CHECK INPUTS",AD6*AF13)))) -> AVAILABLE | AK7: =IF(AND(ISBLANK(AM13),COUNTA(AM15:AM1000)=0),"AVAILABLE",IF(OR(NOT(ISNUMBER(AM13)),AM13<=0,AM13>1),"ENTER WEIGHT",IF(COUNTA(AM15:AM1000)=0,"NO GRADES",IF(NOT(ISNUMBER(AK6)),"CHECK INPUTS",AK6*AM13)))) -> AVAILABLE | AR7: =IF(COUNTA(D13,K13,R13,Y13,AF13,AM13)=0,"ENTER WEIGHTS",IF(OR(AND(NOT(ISBLANK(D13)),OR(NOT(ISNUMBER(D13)),D13<=0,D13>1)),AND(NOT(ISBLANK(K13)),OR(NOT(ISNUMBER(K13)),K13<=0,K13>1)),AND(NOT(ISBLANK(R13)),OR(NOT(ISNUMBER(R13)),R13<=0,R13>1)),AND(NOT(ISBLANK(Y13)),OR(NOT(ISNUMBER(Y13)),Y13<=0,Y13>1)),AND(NOT(ISBLANK(AF13)),OR(NOT(ISNUMBER(AF13)),AF13<=0,AF13>1)),AND(NOT(ISBLANK(AM13)),OR(NOT(ISNUMBER(AM13)),AM13<=0,AM13>1))),"CHECK WEIGHTS",IF(OR(B7="ENTER WEIGHT",I7="ENTER WEIGHT",P7="ENTER WEIGHT",W7="ENTER WEIGHT",AD7="ENTER WEIGHT",AK7="ENTER WEIGHT"),"ENTER WEIGHTS",IF(ABS(SUM(D13,K13,R13,Y13,AF13,AM13)-1)>0.000001,"CHECK WEIGHTS",IF(OR(B7="CHECK INPUTS",I7="CHECK INPUTS",P7="CHECK INPUTS",W7="CHECK INPUTS",AD7="CHECK INPUTS",AK7="CHECK INPUTS"),"CHECK INPUTS",IF(SUM(IF(ISNUMBER(B7),D13,0),IF(ISNUMBER(I7),K13,0),IF(ISNUMBER(P7),R13,0),IF(ISNUMBER(W7),Y13,0),IF(ISNUMBER(AD7),AF13,0),IF(ISNUMBER(AK7),AM13,0))=0,"ENTER GRADES",SUM(B7,I7,P7,W7,AD7,AK7)/SUM(IF(ISNUMBER(B7),D13,0),IF(ISNUMBER(I7),K13,0),IF(ISNUMBER(P7),R13,0),IF(ISNUMBER(W7),Y13,0),IF(ISNUMBER(AD7),AF13,0),IF(ISNUMBER(AK7),AM13,0)))))))) -> ENTER WEIGHTS | AV7: =IF(NOT(ISNUMBER(AR7)),"",IF(COUNT(E9,G9,J9,L9)<4,"",IF(NOT(AND(E9>=0,E9<=100,G9>=0,G9<=100,J9>=0,J9<=100,L9>=0,L9<=100,E9>G9,G9>J9,J9>L9)),"CHECK TARGETS",IF(AR7*100>=E9,"A",IF(AR7*100>=G9,"B",IF(AR7*100>=J9,"C",IF(AR7*100>=L9,"D","F")))))))
B9: GRADE TARGETS | D9: A ≥ | F9: B ≥ | H9: C ≥ | K9: D ≥ | M9: F below D
B10: Enter weights as %. Leave Out Of blank for % scores; enter points otherwise. Custom uses Item Wt. Blank scores are ignored; 0 counts.
B12: CATEGORY 1 | I12: CATEGORY 2 | P12: CATEGORY 3 | W12: CATEGORY 4 | AD12: CATEGORY 5 | AK12: CATEGORY 6
B13: Course Weight | E13: Method | F13: Equal | I13: Course Weight | L13: Method | M13: Equal | P13: Course Weight | S13: Method | T13: Equal | W13: Course Weight | Z13: Method | AA13: Equal | AD13: Course Weight | AG13: Method | AH13: Equal | AK13: Course Weight | AN13: Method | AO13: Equal
B14: Assessment | C14: Due | D14: Earned | E14: Out Of | F14: Grade % (auto) | G14: Item Wt. | I14: Assessment | J14: Due | K14: Earned | L14: Out Of | M14: Grade % (auto) | N14: Item Wt. | P14: Assessment | Q14: Due | R14: Earned | S14: Out Of | T14: Grade % (auto) | U14: Item Wt. | W14: Assessment | X14: Due | Y14: Earned | Z14: Out Of | AA14: Grade % (auto) | AB14: Item Wt. | AD14: Assessment | AE14: Due | AF14: Earned | AG14: Out Of | AH14: Grade % (auto) | AI14: Item Wt. | AK14: Assessment | AL14: Due | AM14: Earned | AN14: Out Of | AO14: Grade % (auto) | AP14: Item Wt.
F15: =IF(ISBLANK(D15),"",IF(NOT(ISNUMBER(D15)),"",IF(ISBLANK(E15),IF(AND(D15>=0,D15<=1),D15,D15/100),IF(AND(ISNUMBER(E15),E15>0,D15>=0),D15/E15,"")))) | M15: =IF(ISBLANK(K15),"",IF(NOT(ISNUMBER(K15)),"",IF(ISBLANK(L15),IF(AND(K15>=0,K15<=1),K15,K15/100),IF(AND(ISNUMBER(L15),L15>0,K15>=0),K15/L15,"")))) | T15: =IF(ISBLANK(R15),"",IF(NOT(ISNUMBER(R15)),"",IF(ISBLANK(S15),IF(AND(R15>=0,R15<=1),R15,R15/100),IF(AND(ISNUMBER(S15),S15>0,R15>=0),R15/S15,"")))) | AA15: =IF(ISBLANK(Y15),"",IF(NOT(ISNUMBER(Y15)),"",IF(ISBLANK(Z15),IF(AND(Y15>=0,Y15<=1),Y15,Y15/100),IF(AND(ISNUMBER(Z15),Z15>0,Y15>=0),Y15/Z15,"")))) | AH15: =IF(ISBLANK(AF15),"",IF(NOT(ISNUMBER(AF15)),"",IF(ISBLANK(AG15),IF(AND(AF15>=0,AF15<=1),AF15,AF15/100),IF(AND(ISNUMBER(AG15),AG15>0,AF15>=0),AF15/AG15,"")))) | AO15: =IF(ISBLANK(AM15),"",IF(NOT(ISNUMBER(AM15)),"",IF(ISBLANK(AN15),IF(AND(AM15>=0,AM15<=1),AM15,AM15/100),IF(AND(ISNUMBER(AN15),AN15>0,AM15>=0),AM15/AN15,""))))
F16: =IF(ISBLANK(D16),"",IF(NOT(ISNUMBER(D16)),"",IF(ISBLANK(E16),IF(AND(D16>=0,D16<=1),D16,D16/100),IF(AND(ISNUMBER(E16),E16>0,D16>=0),D16/E16,"")))) | M16: =IF(ISBLANK(K16),"",IF(NOT(ISNUMBER(K16)),"",IF(ISBLANK(L16),IF(AND(K16>=0,K16<=1),K16,K16/100),IF(AND(ISNUMBER(L16),L16>0,K16>=0),K16/L16,"")))) | T16: =IF(ISBLANK(R16),"",IF(NOT(ISNUMBER(R16)),"",IF(ISBLANK(S16),IF(AND(R16>=0,R16<=1),R16,R16/100),IF(AND(ISNUMBER(S16),S16>0,R16>=0),R16/S16,"")))) | AA16: =IF(ISBLANK(Y16),"",IF(NOT(ISNUMBER(Y16)),"",IF(ISBLANK(Z16),IF(AND(Y16>=0,Y16<=1),Y16,Y16/100),IF(AND(ISNUMBER(Z16),Z16>0,Y16>=0),Y16/Z16,"")))) | AH16: =IF(ISBLANK(AF16),"",IF(NOT(ISNUMBER(AF16)),"",IF(ISBLANK(AG16),IF(AND(AF16>=0,AF16<=1),AF16,AF16/100),IF(AND(ISNUMBER(AG16),AG16>0,AF16>=0),AF16/AG16,"")))) | AO16: =IF(ISBLANK(AM16),"",IF(NOT(ISNUMBER(AM16)),"",IF(ISBLANK(AN16),IF(AND(AM16>=0,AM16<=1),AM16,AM16/100),IF(AND(ISNUMBER(AN16),AN16>0,AM16>=0),AM16/AN16,""))))
F17: =IF(ISBLANK(D17),"",IF(NOT(ISNUMBER(D17)),"",IF(ISBLANK(E17),IF(AND(D17>=0,D17<=1),D17,D17/100),IF(AND(ISNUMBER(E17),E17>0,D17>=0),D17/E17,"")))) | M17: =IF(ISBLANK(K17),"",IF(NOT(ISNUMBER(K17)),"",IF(ISBLANK(L17),IF(AND(K17>=0,K17<=1),K17,K17/100),IF(AND(ISNUMBER(L17),L17>0,K17>=0),K17/L17,"")))) | T17: =IF(ISBLANK(R17),"",IF(NOT(ISNUMBER(R17)),"",IF(ISBLANK(S17),IF(AND(R17>=0,R17<=1),R17,R17/100),IF(AND(ISNUMBER(S17),S17>0,R17>=0),R17/S17,"")))) | AA17: =IF(ISBLANK(Y17),"",IF(NOT(ISNUMBER(Y17)),"",IF(ISBLANK(Z17),IF(AND(Y17>=0,Y17<=1),Y17,Y17/100),IF(AND(ISNUMBER(Z17),Z17>0,Y17>=0),Y17/Z17,"")))) | AH17: =IF(ISBLANK(AF17),"",IF(NOT(ISNUMBER(AF17)),"",IF(ISBLANK(AG17),IF(AND(AF17>=0,AF17<=1),AF17,AF17/100),IF(AND(ISNUMBER(AG17),AG17>0,AF17>=0),AF17/AG17,"")))) | AO17: =IF(ISBLANK(AM17),"",IF(NOT(ISNUMBER(AM17)),"",IF(ISBLANK(AN17),IF(AND(AM17>=0,AM17<=1),AM17,AM17/100),IF(AND(ISNUMBER(AN17),AN17>0,AM17>=0),AM17/AN17,""))))
F18: =IF(ISBLANK(D18),"",IF(NOT(ISNUMBER(D18)),"",IF(ISBLANK(E18),IF(AND(D18>=0,D18<=1),D18,D18/100),IF(AND(ISNUMBER(E18),E18>0,D18>=0),D18/E18,"")))) | M18: =IF(ISBLANK(K18),"",IF(NOT(ISNUMBER(K18)),"",IF(ISBLANK(L18),IF(AND(K18>=0,K18<=1),K18,K18/100),IF(AND(ISNUMBER(L18),L18>0,K18>=0),K18/L18,"")))) | T18: =IF(ISBLANK(R18),"",IF(NOT(ISNUMBER(R18)),"",IF(ISBLANK(S18),IF(AND(R18>=0,R18<=1),R18,R18/100),IF(AND(ISNUMBER(S18),S18>0,R18>=0),R18/S18,"")))) | AA18: =IF(ISBLANK(Y18),"",IF(NOT(ISNUMBER(Y18)),"",IF(ISBLANK(Z18),IF(AND(Y18>=0,Y18<=1),Y18,Y18/100),IF(AND(ISNUMBER(Z18),Z18>0,Y18>=0),Y18/Z18,"")))) | AH18: =IF(ISBLANK(AF18),"",IF(NOT(ISNUMBER(AF18)),"",IF(ISBLANK(AG18),IF(AND(AF18>=0,AF18<=1),AF18,AF18/100),IF(AND(ISNUMBER(AG18),AG18>0,AF18>=0),AF18/AG18,"")))) | AO18: =IF(ISBLANK(AM18),"",IF(NOT(ISNUMBER(AM18)),"",IF(ISBLANK(AN18),IF(AND(AM18>=0,AM18<=1),AM18,AM18/100),IF(AND(ISNUMBER(AN18),AN18>0,AM18>=0),AM18/AN18,""))))

Sheet Class 8
AZ1: =IF(ISNUMBER($AR$7),$AR$7,"")
B2: COURSE CODE | AZ2: =IF(ISTEXT($AV$7),$AV$7,"")
B3: Course Grade Calculator
B5: =B12 -> CATEGORY 1 | H5: + | I5: =I12 -> CATEGORY 2 | O5: + | P5: =P12 -> CATEGORY 3 | V5: + | W5: =W12 -> CATEGORY 4 | AC5: + | AD5: =AD12 -> CATEGORY 5 | AJ5: + | AK5: =AK12 -> CATEGORY 6 | AQ5: = | AR5: CURRENT GRADE
B6: =IF(COUNTA(D15:D1000)=0,"",IF(F13="Equal",IF(AND(COUNTA(D15:D1000)=COUNT(D15:D1000),COUNTIFS(D15:D1000,"<0")=0,COUNT(F15:F1000)=COUNT(D15:D1000)),AVERAGE(F15:F1000),""),IF(F13="By Points",IF(AND(COUNTA(D15:D1000)=COUNT(D15:D1000),COUNT(D15:D1000)=COUNTIFS(D15:D1000,"<>",E15:E1000,">0"),COUNT(F15:F1000)=COUNT(D15:D1000)),SUM(D15:D1000)/SUMIF(D15:D1000,"<>",E15:E1000),""),IF(F13="Custom",IF(AND(COUNTA(D15:D1000)=COUNT(D15:D1000),COUNT(D15:D1000)=COUNTIFS(D15:D1000,"<>",G15:G1000,">0"),COUNT(F15:F1000)=COUNT(D15:D1000)),SUMPRODUCT(F15:F1000,G15:G1000)/SUMIF(D15:D1000,"<>",G15:G1000),""),"")))) | E6: × | F6: =IF(ISBLANK(D13),"",D13) | I6: =IF(COUNTA(K15:K1000)=0,"",IF(M13="Equal",IF(AND(COUNTA(K15:K1000)=COUNT(K15:K1000),COUNTIFS(K15:K1000,"<0")=0,COUNT(M15:M1000)=COUNT(K15:K1000)),AVERAGE(M15:M1000),""),IF(M13="By Points",IF(AND(COUNTA(K15:K1000)=COUNT(K15:K1000),COUNT(K15:K1000)=COUNTIFS(K15:K1000,"<>",L15:L1000,">0"),COUNT(M15:M1000)=COUNT(K15:K1000)),SUM(K15:K1000)/SUMIF(K15:K1000,"<>",L15:L1000),""),IF(M13="Custom",IF(AND(COUNTA(K15:K1000)=COUNT(K15:K1000),COUNT(K15:K1000)=COUNTIFS(K15:K1000,"<>",N15:N1000,">0"),COUNT(M15:M1000)=COUNT(K15:K1000)),SUMPRODUCT(M15:M1000,N15:N1000)/SUMIF(K15:K1000,"<>",N15:N1000),""),"")))) | L6: × | M6: =IF(ISBLANK(K13),"",K13) | P6: =IF(COUNTA(R15:R1000)=0,"",IF(T13="Equal",IF(AND(COUNTA(R15:R1000)=COUNT(R15:R1000),COUNTIFS(R15:R1000,"<0")=0,COUNT(T15:T1000)=COUNT(R15:R1000)),AVERAGE(T15:T1000),""),IF(T13="By Points",IF(AND(COUNTA(R15:R1000)=COUNT(R15:R1000),COUNT(R15:R1000)=COUNTIFS(R15:R1000,"<>",S15:S1000,">0"),COUNT(T15:T1000)=COUNT(R15:R1000)),SUM(R15:R1000)/SUMIF(R15:R1000,"<>",S15:S1000),""),IF(T13="Custom",IF(AND(COUNTA(R15:R1000)=COUNT(R15:R1000),COUNT(R15:R1000)=COUNTIFS(R15:R1000,"<>",U15:U1000,">0"),COUNT(T15:T1000)=COUNT(R15:R1000)),SUMPRODUCT(T15:T1000,U15:U1000)/SUMIF(R15:R1000,"<>",U15:U1000),""),"")))) | S6: × | T6: =IF(ISBLANK(R13),"",R13) | W6: =IF(COUNTA(Y15:Y1000)=0,"",IF(AA13="Equal",IF(AND(COUNTA(Y15:Y1000)=COUNT(Y15:Y1000),COUNTIFS(Y15:Y1000,"<0")=0,COUNT(AA15:AA1000)=COUNT(Y15:Y1000)),AVERAGE(AA15:AA1000),""),IF(AA13="By Points",IF(AND(COUNTA(Y15:Y1000)=COUNT(Y15:Y1000),COUNT(Y15:Y1000)=COUNTIFS(Y15:Y1000,"<>",Z15:Z1000,">0"),COUNT(AA15:AA1000)=COUNT(Y15:Y1000)),SUM(Y15:Y1000)/SUMIF(Y15:Y1000,"<>",Z15:Z1000),""),IF(AA13="Custom",IF(AND(COUNTA(Y15:Y1000)=COUNT(Y15:Y1000),COUNT(Y15:Y1000)=COUNTIFS(Y15:Y1000,"<>",AB15:AB1000,">0"),COUNT(AA15:AA1000)=COUNT(Y15:Y1000)),SUMPRODUCT(AA15:AA1000,AB15:AB1000)/SUMIF(Y15:Y1000,"<>",AB15:AB1000),""),"")))) | Z6: × | AA6: =IF(ISBLANK(Y13),"",Y13) | AD6: =IF(COUNTA(AF15:AF1000)=0,"",IF(AH13="Equal",IF(AND(COUNTA(AF15:AF1000)=COUNT(AF15:AF1000),COUNTIFS(AF15:AF1000,"<0")=0,COUNT(AH15:AH1000)=COUNT(AF15:AF1000)),AVERAGE(AH15:AH1000),""),IF(AH13="By Points",IF(AND(COUNTA(AF15:AF1000)=COUNT(AF15:AF1000),COUNT(AF15:AF1000)=COUNTIFS(AF15:AF1000,"<>",AG15:AG1000,">0"),COUNT(AH15:AH1000)=COUNT(AF15:AF1000)),SUM(AF15:AF1000)/SUMIF(AF15:AF1000,"<>",AG15:AG1000),""),IF(AH13="Custom",IF(AND(COUNTA(AF15:AF1000)=COUNT(AF15:AF1000),COUNT(AF15:AF1000)=COUNTIFS(AF15:AF1000,"<>",AI15:AI1000,">0"),COUNT(AH15:AH1000)=COUNT(AF15:AF1000)),SUMPRODUCT(AH15:AH1000,AI15:AI1000)/SUMIF(AF15:AF1000,"<>",AI15:AI1000),""),"")))) | AG6: × | AH6: =IF(ISBLANK(AF13),"",AF13) | AK6: =IF(COUNTA(AM15:AM1000)=0,"",IF(AO13="Equal",IF(AND(COUNTA(AM15:AM1000)=COUNT(AM15:AM1000),COUNTIFS(AM15:AM1000,"<0")=0,COUNT(AO15:AO1000)=COUNT(AM15:AM1000)),AVERAGE(AO15:AO1000),""),IF(AO13="By Points",IF(AND(COUNTA(AM15:AM1000)=COUNT(AM15:AM1000),COUNT(AM15:AM1000)=COUNTIFS(AM15:AM1000,"<>",AN15:AN1000,">0"),COUNT(AO15:AO1000)=COUNT(AM15:AM1000)),SUM(AM15:AM1000)/SUMIF(AM15:AM1000,"<>",AN15:AN1000),""),IF(AO13="Custom",IF(AND(COUNTA(AM15:AM1000)=COUNT(AM15:AM1000),COUNT(AM15:AM1000)=COUNTIFS(AM15:AM1000,"<>",AP15:AP1000,">0"),COUNT(AO15:AO1000)=COUNT(AM15:AM1000)),SUMPRODUCT(AO15:AO1000,AP15:AP1000)/SUMIF(AM15:AM1000,"<>",AP15:AP1000),""),"")))) | AN6: × | AO6: =IF(ISBLANK(AM13),"",AM13) | AR6: ACTIVE WEIGHT | AU6: =SUM(IF(ISNUMBER(B7),D13,0),IF(ISNUMBER(I7),K13,0),IF(ISNUMBER(P7),R13,0),IF(ISNUMBER(W7),Y13,0),IF(ISNUMBER(AD7),AF13,0),IF(ISNUMBER(AK7),AM13,0)) -> 0
B7: =IF(AND(ISBLANK(D13),COUNTA(D15:D1000)=0),"AVAILABLE",IF(OR(NOT(ISNUMBER(D13)),D13<=0,D13>1),"ENTER WEIGHT",IF(COUNTA(D15:D1000)=0,"NO GRADES",IF(NOT(ISNUMBER(B6)),"CHECK INPUTS",B6*D13)))) -> AVAILABLE | I7: =IF(AND(ISBLANK(K13),COUNTA(K15:K1000)=0),"AVAILABLE",IF(OR(NOT(ISNUMBER(K13)),K13<=0,K13>1),"ENTER WEIGHT",IF(COUNTA(K15:K1000)=0,"NO GRADES",IF(NOT(ISNUMBER(I6)),"CHECK INPUTS",I6*K13)))) -> AVAILABLE | P7: =IF(AND(ISBLANK(R13),COUNTA(R15:R1000)=0),"AVAILABLE",IF(OR(NOT(ISNUMBER(R13)),R13<=0,R13>1),"ENTER WEIGHT",IF(COUNTA(R15:R1000)=0,"NO GRADES",IF(NOT(ISNUMBER(P6)),"CHECK INPUTS",P6*R13)))) -> AVAILABLE | W7: =IF(AND(ISBLANK(Y13),COUNTA(Y15:Y1000)=0),"AVAILABLE",IF(OR(NOT(ISNUMBER(Y13)),Y13<=0,Y13>1),"ENTER WEIGHT",IF(COUNTA(Y15:Y1000)=0,"NO GRADES",IF(NOT(ISNUMBER(W6)),"CHECK INPUTS",W6*Y13)))) -> AVAILABLE | AD7: =IF(AND(ISBLANK(AF13),COUNTA(AF15:AF1000)=0),"AVAILABLE",IF(OR(NOT(ISNUMBER(AF13)),AF13<=0,AF13>1),"ENTER WEIGHT",IF(COUNTA(AF15:AF1000)=0,"NO GRADES",IF(NOT(ISNUMBER(AD6)),"CHECK INPUTS",AD6*AF13)))) -> AVAILABLE | AK7: =IF(AND(ISBLANK(AM13),COUNTA(AM15:AM1000)=0),"AVAILABLE",IF(OR(NOT(ISNUMBER(AM13)),AM13<=0,AM13>1),"ENTER WEIGHT",IF(COUNTA(AM15:AM1000)=0,"NO GRADES",IF(NOT(ISNUMBER(AK6)),"CHECK INPUTS",AK6*AM13)))) -> AVAILABLE | AR7: =IF(COUNTA(D13,K13,R13,Y13,AF13,AM13)=0,"ENTER WEIGHTS",IF(OR(AND(NOT(ISBLANK(D13)),OR(NOT(ISNUMBER(D13)),D13<=0,D13>1)),AND(NOT(ISBLANK(K13)),OR(NOT(ISNUMBER(K13)),K13<=0,K13>1)),AND(NOT(ISBLANK(R13)),OR(NOT(ISNUMBER(R13)),R13<=0,R13>1)),AND(NOT(ISBLANK(Y13)),OR(NOT(ISNUMBER(Y13)),Y13<=0,Y13>1)),AND(NOT(ISBLANK(AF13)),OR(NOT(ISNUMBER(AF13)),AF13<=0,AF13>1)),AND(NOT(ISBLANK(AM13)),OR(NOT(ISNUMBER(AM13)),AM13<=0,AM13>1))),"CHECK WEIGHTS",IF(OR(B7="ENTER WEIGHT",I7="ENTER WEIGHT",P7="ENTER WEIGHT",W7="ENTER WEIGHT",AD7="ENTER WEIGHT",AK7="ENTER WEIGHT"),"ENTER WEIGHTS",IF(ABS(SUM(D13,K13,R13,Y13,AF13,AM13)-1)>0.000001,"CHECK WEIGHTS",IF(OR(B7="CHECK INPUTS",I7="CHECK INPUTS",P7="CHECK INPUTS",W7="CHECK INPUTS",AD7="CHECK INPUTS",AK7="CHECK INPUTS"),"CHECK INPUTS",IF(SUM(IF(ISNUMBER(B7),D13,0),IF(ISNUMBER(I7),K13,0),IF(ISNUMBER(P7),R13,0),IF(ISNUMBER(W7),Y13,0),IF(ISNUMBER(AD7),AF13,0),IF(ISNUMBER(AK7),AM13,0))=0,"ENTER GRADES",SUM(B7,I7,P7,W7,AD7,AK7)/SUM(IF(ISNUMBER(B7),D13,0),IF(ISNUMBER(I7),K13,0),IF(ISNUMBER(P7),R13,0),IF(ISNUMBER(W7),Y13,0),IF(ISNUMBER(AD7),AF13,0),IF(ISNUMBER(AK7),AM13,0)))))))) -> ENTER WEIGHTS | AV7: =IF(NOT(ISNUMBER(AR7)),"",IF(COUNT(E9,G9,J9,L9)<4,"",IF(NOT(AND(E9>=0,E9<=100,G9>=0,G9<=100,J9>=0,J9<=100,L9>=0,L9<=100,E9>G9,G9>J9,J9>L9)),"CHECK TARGETS",IF(AR7*100>=E9,"A",IF(AR7*100>=G9,"B",IF(AR7*100>=J9,"C",IF(AR7*100>=L9,"D","F")))))))
B9: GRADE TARGETS | D9: A ≥ | F9: B ≥ | H9: C ≥ | K9: D ≥ | M9: F below D
B10: Enter weights as %. Leave Out Of blank for % scores; enter points otherwise. Custom uses Item Wt. Blank scores are ignored; 0 counts.
B12: CATEGORY 1 | I12: CATEGORY 2 | P12: CATEGORY 3 | W12: CATEGORY 4 | AD12: CATEGORY 5 | AK12: CATEGORY 6
B13: Course Weight | E13: Method | F13: Equal | I13: Course Weight | L13: Method | M13: Equal | P13: Course Weight | S13: Method | T13: Equal | W13: Course Weight | Z13: Method | AA13: Equal | AD13: Course Weight | AG13: Method | AH13: Equal | AK13: Course Weight | AN13: Method | AO13: Equal
B14: Assessment | C14: Due | D14: Earned | E14: Out Of | F14: Grade % (auto) | G14: Item Wt. | I14: Assessment | J14: Due | K14: Earned | L14: Out Of | M14: Grade % (auto) | N14: Item Wt. | P14: Assessment | Q14: Due | R14: Earned | S14: Out Of | T14: Grade % (auto) | U14: Item Wt. | W14: Assessment | X14: Due | Y14: Earned | Z14: Out Of | AA14: Grade % (auto) | AB14: Item Wt. | AD14: Assessment | AE14: Due | AF14: Earned | AG14: Out Of | AH14: Grade % (auto) | AI14: Item Wt. | AK14: Assessment | AL14: Due | AM14: Earned | AN14: Out Of | AO14: Grade % (auto) | AP14: Item Wt.
F15: =IF(ISBLANK(D15),"",IF(NOT(ISNUMBER(D15)),"",IF(ISBLANK(E15),IF(AND(D15>=0,D15<=1),D15,D15/100),IF(AND(ISNUMBER(E15),E15>0,D15>=0),D15/E15,"")))) | M15: =IF(ISBLANK(K15),"",IF(NOT(ISNUMBER(K15)),"",IF(ISBLANK(L15),IF(AND(K15>=0,K15<=1),K15,K15/100),IF(AND(ISNUMBER(L15),L15>0,K15>=0),K15/L15,"")))) | T15: =IF(ISBLANK(R15),"",IF(NOT(ISNUMBER(R15)),"",IF(ISBLANK(S15),IF(AND(R15>=0,R15<=1),R15,R15/100),IF(AND(ISNUMBER(S15),S15>0,R15>=0),R15/S15,"")))) | AA15: =IF(ISBLANK(Y15),"",IF(NOT(ISNUMBER(Y15)),"",IF(ISBLANK(Z15),IF(AND(Y15>=0,Y15<=1),Y15,Y15/100),IF(AND(ISNUMBER(Z15),Z15>0,Y15>=0),Y15/Z15,"")))) | AH15: =IF(ISBLANK(AF15),"",IF(NOT(ISNUMBER(AF15)),"",IF(ISBLANK(AG15),IF(AND(AF15>=0,AF15<=1),AF15,AF15/100),IF(AND(ISNUMBER(AG15),AG15>0,AF15>=0),AF15/AG15,"")))) | AO15: =IF(ISBLANK(AM15),"",IF(NOT(ISNUMBER(AM15)),"",IF(ISBLANK(AN15),IF(AND(AM15>=0,AM15<=1),AM15,AM15/100),IF(AND(ISNUMBER(AN15),AN15>0,AM15>=0),AM15/AN15,""))))
F16: =IF(ISBLANK(D16),"",IF(NOT(ISNUMBER(D16)),"",IF(ISBLANK(E16),IF(AND(D16>=0,D16<=1),D16,D16/100),IF(AND(ISNUMBER(E16),E16>0,D16>=0),D16/E16,"")))) | M16: =IF(ISBLANK(K16),"",IF(NOT(ISNUMBER(K16)),"",IF(ISBLANK(L16),IF(AND(K16>=0,K16<=1),K16,K16/100),IF(AND(ISNUMBER(L16),L16>0,K16>=0),K16/L16,"")))) | T16: =IF(ISBLANK(R16),"",IF(NOT(ISNUMBER(R16)),"",IF(ISBLANK(S16),IF(AND(R16>=0,R16<=1),R16,R16/100),IF(AND(ISNUMBER(S16),S16>0,R16>=0),R16/S16,"")))) | AA16: =IF(ISBLANK(Y16),"",IF(NOT(ISNUMBER(Y16)),"",IF(ISBLANK(Z16),IF(AND(Y16>=0,Y16<=1),Y16,Y16/100),IF(AND(ISNUMBER(Z16),Z16>0,Y16>=0),Y16/Z16,"")))) | AH16: =IF(ISBLANK(AF16),"",IF(NOT(ISNUMBER(AF16)),"",IF(ISBLANK(AG16),IF(AND(AF16>=0,AF16<=1),AF16,AF16/100),IF(AND(ISNUMBER(AG16),AG16>0,AF16>=0),AF16/AG16,"")))) | AO16: =IF(ISBLANK(AM16),"",IF(NOT(ISNUMBER(AM16)),"",IF(ISBLANK(AN16),IF(AND(AM16>=0,AM16<=1),AM16,AM16/100),IF(AND(ISNUMBER(AN16),AN16>0,AM16>=0),AM16/AN16,""))))
F17: =IF(ISBLANK(D17),"",IF(NOT(ISNUMBER(D17)),"",IF(ISBLANK(E17),IF(AND(D17>=0,D17<=1),D17,D17/100),IF(AND(ISNUMBER(E17),E17>0,D17>=0),D17/E17,"")))) | M17: =IF(ISBLANK(K17),"",IF(NOT(ISNUMBER(K17)),"",IF(ISBLANK(L17),IF(AND(K17>=0,K17<=1),K17,K17/100),IF(AND(ISNUMBER(L17),L17>0,K17>=0),K17/L17,"")))) | T17: =IF(ISBLANK(R17),"",IF(NOT(ISNUMBER(R17)),"",IF(ISBLANK(S17),IF(AND(R17>=0,R17<=1),R17,R17/100),IF(AND(ISNUMBER(S17),S17>0,R17>=0),R17/S17,"")))) | AA17: =IF(ISBLANK(Y17),"",IF(NOT(ISNUMBER(Y17)),"",IF(ISBLANK(Z17),IF(AND(Y17>=0,Y17<=1),Y17,Y17/100),IF(AND(ISNUMBER(Z17),Z17>0,Y17>=0),Y17/Z17,"")))) | AH17: =IF(ISBLANK(AF17),"",IF(NOT(ISNUMBER(AF17)),"",IF(ISBLANK(AG17),IF(AND(AF17>=0,AF17<=1),AF17,AF17/100),IF(AND(ISNUMBER(AG17),AG17>0,AF17>=0),AF17/AG17,"")))) | AO17: =IF(ISBLANK(AM17),"",IF(NOT(ISNUMBER(AM17)),"",IF(ISBLANK(AN17),IF(AND(AM17>=0,AM17<=1),AM17,AM17/100),IF(AND(ISNUMBER(AN17),AN17>0,AM17>=0),AM17/AN17,""))))
F18: =IF(ISBLANK(D18),"",IF(NOT(ISNUMBER(D18)),"",IF(ISBLANK(E18),IF(AND(D18>=0,D18<=1),D18,D18/100),IF(AND(ISNUMBER(E18),E18>0,D18>=0),D18/E18,"")))) | M18: =IF(ISBLANK(K18),"",IF(NOT(ISNUMBER(K18)),"",IF(ISBLANK(L18),IF(AND(K18>=0,K18<=1),K18,K18/100),IF(AND(ISNUMBER(L18),L18>0,K18>=0),K18/L18,"")))) | T18: =IF(ISBLANK(R18),"",IF(NOT(ISNUMBER(R18)),"",IF(ISBLANK(S18),IF(AND(R18>=0,R18<=1),R18,R18/100),IF(AND(ISNUMBER(S18),S18>0,R18>=0),R18/S18,"")))) | AA18: =IF(ISBLANK(Y18),"",IF(NOT(ISNUMBER(Y18)),"",IF(ISBLANK(Z18),IF(AND(Y18>=0,Y18<=1),Y18,Y18/100),IF(AND(ISNUMBER(Z18),Z18>0,Y18>=0),Y18/Z18,"")))) | AH18: =IF(ISBLANK(AF18),"",IF(NOT(ISNUMBER(AF18)),"",IF(ISBLANK(AG18),IF(AND(AF18>=0,AF18<=1),AF18,AF18/100),IF(AND(ISNUMBER(AG18),AG18>0,AF18>=0),AF18/AG18,"")))) | AO18: =IF(ISBLANK(AM18),"",IF(NOT(ISNUMBER(AM18)),"",IF(ISBLANK(AN18),IF(AND(AM18>=0,AM18<=1),AM18,AM18/100),IF(AND(ISNUMBER(AN18),AN18>0,AM18>=0),AM18/AN18,""))))
